BEGIN:VCALENDAR
VERSION:2.0
PRODID:-//HAFNIA REJSER - ECPv6.15.17.1//NONSGML v1.0//EN
CALSCALE:GREGORIAN
METHOD:PUBLISH
X-WR-CALNAME:HAFNIA REJSER
X-ORIGINAL-URL:https://hafnia-rejser.dk
X-WR-CALDESC:Begivenheder for HAFNIA REJSER
REFRESH-INTERVAL;VALUE=DURATION:PT1H
X-Robots-Tag:noindex
X-PUBLISHED-TTL:PT1H
BEGIN:VTIMEZONE
TZID:Europe/Copenhagen
BEGIN:DAYLIGHT
TZOFFSETFROM:+0100
TZOFFSETTO:+0200
TZNAME:CEST
DTSTART:20200329T010000
END:DAYLIGHT
BEGIN:STANDARD
TZOFFSETFROM:+0200
TZOFFSETTO:+0100
TZNAME:CET
DTSTART:20201025T010000
END:STANDARD
BEGIN:DAYLIGHT
TZOFFSETFROM:+0100
TZOFFSETTO:+0200
TZNAME:CEST
DTSTART:20210328T010000
END:DAYLIGHT
BEGIN:STANDARD
TZOFFSETFROM:+0200
TZOFFSETTO:+0100
TZNAME:CET
DTSTART:20211031T010000
END:STANDARD
BEGIN:DAYLIGHT
TZOFFSETFROM:+0100
TZOFFSETTO:+0200
TZNAME:CEST
DTSTART:20220327T010000
END:DAYLIGHT
BEGIN:STANDARD
TZOFFSETFROM:+0200
TZOFFSETTO:+0100
TZNAME:CET
DTSTART:20221030T010000
END:STANDARD
END:VTIMEZONE
BEGIN:VEVENT
DTSTART;VALUE=DATE:20210826
DTEND;VALUE=DATE:20210827
DTSTAMP:20260424T233423
CREATED:20221219T130759Z
LAST-MODIFIED:20230303T084847Z
UID:2544-1629936000-1630022399@hafnia-rejser.dk
SUMMARY:SEJERØ
DESCRIPTION:Kom med til\n\nLidt om turen\n\nMed en uspoleret natur og højt til himlen\, finder vi Sejerø i den syd vestligste del af Kattegat. Guidet tur med øbo og frokost på den lille ø \n\n\n\n\nAfrejsedata:\nPris pr. person\nBestil\n\n\n\n\nTorsdag d. 26. august	\nPris 695\,-\n\n        Bestil her\n    \n\n\n\n\n\n         \nFishing boats on land at Thorup beach on the Danish North Sea coast\n\n\n         \nBunker-kyst-9aab4c7d\n\n\n         \nFjordenhus-lyst-d5b94c66\n\n\nSådan er programmet\nTuren:\n\nSådan er dagen planlagt \n\n\nGadekær med åkander og ænder\, stendysser og hyggeligt havnemiljø\, kendetegner den lille ø med bare 350 beboere\, 12 km i længden og 2\,5 km på det bredeste sted. \nI bus kører vi til Havnsø\, beliggende i den sydlige del af Nekseløbugten. Det lille fiskerleje er i dag en hyggelig by med lystbådehavn og færgeforbindelse til småøerne Sejerø og Nekselø. Vi stævner ud fra Havnsø\, med kig til den lille ø Nekselø.Sejlturen tager ca. en time og på havnen i Sejerby møder vi vores lokalguide\, som er bosiddende på Sejerø. Han viser rundt på øen og fortæller om livet på øen før og nu\, bl.a. om de udfordringer der historisk set har været som øbo på Sejerø. Turen begynder med besøg i Købmandshandelsmuseet og kulturhuset\, hvor Anna og Aksel havde købmandshandel gennem mange år. Både butikken og deres hjem står i dag hen som et lille museum. Herefter besøges den gotiske kirke\, hvor vores guide fortæller mere om livet som øbo. Vi runder øens tre byer\, ser oldtidsminderne og det kuperede landskab\, og får undervejs frokost på Café Mini. Retur til Havnsø med færgen. \nHjemkomst kl. 16:45-18:30. \nTure til de danske små-øer er populære. Du kan også tage med Hafnia Rejser til Ærø\, Sprogø\, Agersø\, Hven\, Læsø og Samsø. \n\nAlt det praktiske:\n\nDet får du med i prisen: \n\n\n\n\nLokalguide på Sejerø \n\n\n\n\nFrokost \n\n\n\n\nFærgeoverfart Havnsø-Sejerø t/r \n\n\n\n\nBuskørsel i 4-stjernet turistbus \n\n\n\n\nBemærk: \n\n\n\nÆndringer i rækkefølgen af udflugter kan forekomme. \n\n\n\nBussen kører på følgende tidspunkter: \n\n\n\n\nBy:\nTidspunkt:\n\n\n\n\nSjælør St. \nkl. 07:25\n\n\nGlostrup\nkl. 07:50\n\n\nTaastrup\nkl. 08:05\n\n\nRoskilde\nkl. 08:20\n\n\nHolbæk\nkl. 08:50\n\n\nSvinninge St.\nkl. 09:10\n\n\n\nSkal du med på turen?\n\nØnsker du at booke et sæde i bussen?Klik på “Bestil her” og gå direkte til vores booking. \n\n\n    Bestil her
URL:https://hafnia-rejser.dk/event/sejeroe/
CATEGORIES:Alle rejser
ATTACH;FMTTYPE=image/jpeg:https://hafnia-rejser.dk/wp-content/uploads/Thorupstrand-f1f7c337.jpeg
END:VEVENT
END:VCALENDAR