BEGIN:VCALENDAR
VERSION:2.0
PRODID:-//HAFNIA REJSER - ECPv6.15.17.1//NONSGML v1.0//EN
CALSCALE:GREGORIAN
METHOD:PUBLISH
X-WR-CALNAME:HAFNIA REJSER
X-ORIGINAL-URL:https://hafnia-rejser.dk
X-WR-CALDESC:Begivenheder for HAFNIA REJSER
REFRESH-INTERVAL;VALUE=DURATION:PT1H
X-Robots-Tag:noindex
X-PUBLISHED-TTL:PT1H
BEGIN:VTIMEZONE
TZID:Europe/Copenhagen
BEGIN:DAYLIGHT
TZOFFSETFROM:+0100
TZOFFSETTO:+0200
TZNAME:CEST
DTSTART:20220327T010000
END:DAYLIGHT
BEGIN:STANDARD
TZOFFSETFROM:+0200
TZOFFSETTO:+0100
TZNAME:CET
DTSTART:20221030T010000
END:STANDARD
BEGIN:DAYLIGHT
TZOFFSETFROM:+0100
TZOFFSETTO:+0200
TZNAME:CEST
DTSTART:20230326T010000
END:DAYLIGHT
BEGIN:STANDARD
TZOFFSETFROM:+0200
TZOFFSETTO:+0100
TZNAME:CET
DTSTART:20231029T010000
END:STANDARD
BEGIN:DAYLIGHT
TZOFFSETFROM:+0100
TZOFFSETTO:+0200
TZNAME:CEST
DTSTART:20240331T010000
END:DAYLIGHT
BEGIN:STANDARD
TZOFFSETFROM:+0200
TZOFFSETTO:+0100
TZNAME:CET
DTSTART:20241027T010000
END:STANDARD
BEGIN:DAYLIGHT
TZOFFSETFROM:+0100
TZOFFSETTO:+0200
TZNAME:CEST
DTSTART:20250330T010000
END:DAYLIGHT
BEGIN:STANDARD
TZOFFSETFROM:+0200
TZOFFSETTO:+0100
TZNAME:CET
DTSTART:20251026T010000
END:STANDARD
BEGIN:DAYLIGHT
TZOFFSETFROM:+0100
TZOFFSETTO:+0200
TZNAME:CEST
DTSTART:20260329T010000
END:DAYLIGHT
BEGIN:STANDARD
TZOFFSETFROM:+0200
TZOFFSETTO:+0100
TZNAME:CET
DTSTART:20261025T010000
END:STANDARD
BEGIN:DAYLIGHT
TZOFFSETFROM:+0100
TZOFFSETTO:+0200
TZNAME:CEST
DTSTART:20270328T010000
END:DAYLIGHT
BEGIN:STANDARD
TZOFFSETFROM:+0200
TZOFFSETTO:+0100
TZNAME:CET
DTSTART:20271031T010000
END:STANDARD
END:VTIMEZONE
BEGIN:VEVENT
DTSTART;VALUE=DATE:20231218
DTEND;VALUE=DATE:20261112
DTSTAMP:20260420T183910
CREATED:20230301T160022Z
LAST-MODIFIED:20260204T144940Z
UID:2503-1702857600-1794441599@hafnia-rejser.dk
SUMMARY:Mortens And på Agerskov Kro - 2 dage
DESCRIPTION:Kom med til\n\nLidt om turen\nVi fejrer Mortens aften med dejlig andesteg på Agerskov Kro\, og tager forskud på julens glæder\, med juleindkøb i grænsebutik.\n\n\n\nAfrejsedata:\nPris pr. person\nBestil\n\n\n\n\nTirsdag d. 10. November\nPris fra 1.985\,-\n\n        Bestil her\n    \n\n\n\n\n\n         \nBilled-forside-3-10117c43\n\n\n         \nbf85a869de1a5b56206beedf252c9beb-d195302b\n\n\nSådan er programmet\nAktiviteterne på de enkelte dage er planlagt på følgende måde:\n1 dag:\n\nRibe og Mortens and \n\n\nVia Storebælt\, Fyn og Lillebælt når vi frem til Sønderjylland. \nHer gør vi holdt i Danmarks ældste by\, Ribe. Byen har\, med sine hyggelige brostensbelagte gader\, bevaret sit gamle bymiljø\, med Ribe Domkirke som dens majestætiske vartegn. \nRibe er beliggende i det flade marskområde\, ikke langt fra Vesterhavet\, og har gennem historien været præget af oversvømmelser. \nFra Ribe går rejsen sydpå\, til den lille landsby Agerskov. \nI 2025 blev den skønne familieejede kro\, for 9. år i træk\, kåret som “Årets Hotel”. \nGod mad\, hyggelig og gammeldags krostemning\, og et fantastisk godt personale\, kendetegner kroen. Vi begynder besøget med kaffe og kage. \nDenne aften nyder vi en lækker andesteg\, i mindet om Morten Bisp\, der gemte sig i en gåsesti for at undgå\, at blive biskop. Gæssene skræppede op\, så han blev afsløret – heldigt for os\, da han derefter grundlagde traditionen med gåse- eller andesteg i november. Hans egen lille hævn over de forræderiske gæs. Måltidet afsluttes med kaffe og sødt. \n\n\n2 dag: \n\nJulehandel i Tyskland \n\n\nMorgenmad på kroen. Mulighed for at smøre madpakke fra morgenbordet. Derefter kører vi sydpå til vore naboer i Tyskland\, hvor vi forhåbentlig kan gøre en god handel. Julen står snart for døren og her er den oplagte mulighed for\, at få fyldt op i spisekammeret med marcipan\, nødder\, julechokolade\, snaps\, juleaftens gode rødvin og hvad der ellers hører julen til. Hjemturen går via Als og det smukke Sydfyn\, inden vi er retur på Sjælland. \nHjemkomst kl. 16:30-19:00. \nDownload rejsebeskrivelse \n\nAlt det praktiske:\n\nDet får du med i prisen: \n\n\n\n\n1 x overnatning i delt dobbeltværelse m. morgenmad \n\n\n\n\nUdflugt til Ribe \n\n\n\n\n1 x kaffe og kage \n\n\n\n\n1 x middag m. andesteg \n\n\n\n\nIndkøbstur til Tyskland \n\n\n\n\nFærgeoverfart Fynshav-Bøjden \n\n\n\n\n4-stjernet turistbus \n\n\n\n\nSærlige tillæg: \n\n\n\nTillæg eneværelse: 200\,- \n\n\n\nBemærk: \n\n\n\n\nVi anbefaler bestilling inden to måneder før rejsen. \n\n\n\n\nHusk pas. \n\n\n\n\nBussen kører på følgende tidspunkter: \n\n\n\n\nBy:\nTidspunkt:\n\n\n\n\nHøjby\nkl. 07:25\n\n\nNykøbing Sj.\nkl. 07:35\n\n\nVig St.\nkl. 07:50\n\n\nAsnæs\nkl. 08:05\n\n\nFårevejle\nkl. 08:15\n\n\nSvinninge\nkl. 08:25\n\n\nJyderup\nkl. 08:40\n\n\nKøbenhavn\nkl. 06:55\n\n\nHøje Taastrup\nkl. 07:15\n\n\nRoskilde\nkl. 07:35\n\n\nHolbæk\nkl. 08:05\n\n\nKorsør\nkl. 09:20\n\n\n\n\n55.12875099999999\,9.129242999999999 \n\nSkal du med på turen?\n\nØnsker du at booke et sæde i bussen?Klik på “Bestil her” og gå direkte til vores booking. \n\n\n        Bestil her
URL:https://hafnia-rejser.dk/event/mortens-and-paa-agerskov-kro-i-soenderjylland/
CATEGORIES:Alle rejser,BUSREJSER 2-10 DAGE
ATTACH;FMTTYPE=image/jpeg:https://hafnia-rejser.dk/wp-content/uploads/bf85a869de1a5b56206beedf252c9beb-d195302b.jpeg
END:VEVENT
BEGIN:VEVENT
DTSTART;VALUE=DATE:20240103
DTEND;VALUE=DATE:20260825
DTSTAMP:20260420T183910
CREATED:20230301T134547Z
LAST-MODIFIED:20260204T134429Z
UID:7207-1704240000-1787615999@hafnia-rejser.dk
SUMMARY:Sommersang i Mariehaven - 2 dage
DESCRIPTION:Kom med til\n\nLidt om turen\nMinifestival i hyggelige omgivelser\, med masser af god musik og underholdning af de mange folkekære sangere og musikere.\n\nAntal dage: 2 dageHotel: Scandic Olympic Esbjerg \n\n\n\n\nAfrejsedata:\nPris pr. person\nBestil\n\n\n\n\nSøndag d. 23. august \nPris fra 3.195\,-\n\n        Bestil her\n    \n\n\n\n\n\n         \n\n\n         \n\n\n         \n\n\n         \n\n\nSådan er programmet\nAktiviteterne på de enkelte dage er planlagt på følgende måde:\n1 dag:\n\nMariehaven \n\n\nVi kører direkte til Ansager og Helge Engelbrechts populære have. \nFor mange er Mariehaven synonym med festlige tv-billeder af sangglade publukummer\, der nyder stemningen i de populære udsendelser “Sommersang i Mariehaven”. Tag selv med og oplev indbegrebet af det Mariehaven kan: samle en masse glade mennesker til nogle timer\, hvor det eneste der betyder noget er fællesskabet\, musikken og den gode oplevelse. \nHelge Engelbrecht er på hjemmebane og vært dagen igennem\, og sammen med Mariehavens Sommersangsorkester\, Neighbours & Friends\, er der lagt op til folkeliv og fest allerede fra start\, når det store 11-mands band træder ind på scenen. \nMidt på aftenen indlogerer vi os på Scandic Hotel i Esbjerg\, efter en festlig dag. \n\n\n2 dag: \n\nFanø \n\n\n15 km strand\, sæler\, klitheder\, hyggelige landsbyer og søfartshistorie – alt dette er Fanø. \nAllerede på færgen mellem Esbjerg og Fanø\, får man det første indtryk af øen og af Nordby\, øens hovedstad. \nEn lille hyggelig by\, hvor den maritime historie er synlig overalt\, med de gamle smukke skipperhuse. \nMed lokalguide ombord i bussen ser vi nærmere på øen\, krydret med historier om frikøb fra Kronen\, stolte sejlskibstraditioner\, de smukke folkedragter og meget mere. \nSønderho\, med sine gamle\, velbevarede bygninger og små krogede gader er\, ikke uden grund\, kåret til Danmarks smukkeste landsby. Den markante Sønderho Kirke er en meget spændende og særegen kirke fra 1782\, særligt med sine mange kirkeskibe og gamle gravsten\, opstillet i kirkens vestlige hjørne. \nPå stranden er der gang i boogie-kørsel og windsurfing\, og Sønderho Havn er\, efter flere års udgravning af en sejlrende\, igen blevet en levende havn. \nI løbet af dagen spiser vi frokost på øen. \nHjemkomst kl. 18:15 – 20:00. \nDownload rejsebeskrivelse \nSe også vores nye tur med festlig skotsk og irsk folkemusik i det storslåede show Highland Saga. \n\nAlt det praktiske:\n\nDet får du med i prisen: \n\n\n\n\n1 x overnatning i delt dobbeltværelse m. morgenmad \n\n\n\n\n1 x aftensmad \n\n\n\n\n1 x frokost \n\n\n\n\nBillet til Sommersang i Mariehaven \n\n\n\n\nRundtur på Fanø med lokalguide \n\n\n\n\nKørsel i 4-stjernet turistbus \n\n\n\n\nSærlige tillæg: \n\n\n\nTillæg eneværelse: 360\,- \n\n\n\nBemærk: \n\n\n\nDer må ikke medbringes stole\, paraplyer og egen mad og drikke i Mariehaven  \n\n\n\nBussen kører på følgende tidspunkter: \n\n\n\n\nBy:\nTidspunkt:\n\n\n\n\nHøjby\nkl. 06:45\n\n\nNykøbing Sj.\nkl. 06:55\n\n\nVig\nkl. 07:10\n\n\nAsnæs\nkl. 07:25\n\n\nFårevejle\nkl. 07:35\n\n\nSvinninge\nkl. 07:45\n\n\nJyderup\nkl. 08:00\n\n\nKorsør\nkl. 08:45\n\n\nHolbæk\nkl. 07:30\n\n\nValby St.\nkl. 06:10\n\n\nHøje Tåstrup\nkl. 06:40\n\n\nRoskilde\nkl. 07:00\n\n\n\n\n55.7068\,8.7520 \n\nSkal du med på turen?\n\nØnsker du at booke et sæde i bussen?Klik på “Bestil her” og gå direkte til vores booking. \n\n\n        Bestil her
URL:https://hafnia-rejser.dk/event/sommersang-i-mariehaven/
CATEGORIES:Alle rejser,BUSREJSER 2-10 DAGE,REVY, KONCERT, SKUESPIL OG MUSICAL
ATTACH;FMTTYPE=image/jpeg:https://hafnia-rejser.dk/wp-content/uploads/4W0A7034-WEB.jpg
END:VEVENT
BEGIN:VEVENT
DTSTART;VALUE=DATE:20241203
DTEND;VALUE=DATE:20260910
DTSTAMP:20260420T183910
CREATED:20230301T141522Z
LAST-MODIFIED:20260218T124733Z
UID:2502-1733184000-1788998399@hafnia-rejser.dk
SUMMARY:Storslåede Stockholm og Silja Krydstogt - 4 dage
DESCRIPTION:Kom med til\n\nLidt om turen\nOplev ‘Nordens Venedig’ Stockholm\, nyd den flotte sejltur i skærgården mellem Sverige og Finland med Siljaline– og se den smukke finske hovedstad Helsinki.\n\nAntal dage: 4 dageHotel: Best Western Plus Bromma og Siljaline kahyt på ”Promenade Class” \n\n\n\n\nAfrejsedata:\nPris pr. person\nBestil\n\n\n\n\nSøndag d. 06. september\nPris fra 3.795\,-\n\n        Bestil\n    \n\n\n\n\n\n         \nHelsingfors-september-2015-1-10-887-510a3769\n\n\n         \n11-0c6d5fbe\n\n\n         \n8-1-2439a4d1\n\n\n         \n9-b2729573\n\n\n         \n5-529cb8bf\n\n\n         \n4-f3a53c51\n\n\n         \n3-2-e84aa255\n\n\n         \n1-2-1-8ae1d786\n\n\nSådan er programmet\nAktiviteterne på de enkelte dage er planlagt på følgende måde:\n1 dag:\n\nStockholm \n\n\nSveriges hovedstad er svenskernes stolthed\, beliggende på 14 øer\, og absolut en af Nordeuropas smukkeste byer. Vores rejse dertil går via Helsingør-Helsingborg og op gennem det smukke Sverige.Sidst på eftermiddagen ankommer vi til Stockholm\, hvor vi skal bo den første nat. \nDet 4-stjernede hotel “Best Western Plus Stockholm Bromma” er moderne\, hyggeligt og har til huse i en fredet bygning\, som engang var SAS’ hovedkvarter. Beliggende tæt på Stockholm centrum. \nOm aftenen spiser vi fælles middag på hotellet. \nTag evt. efterfølgende den korte tur med metro eller sporvogn ind til centrum og nyd aftenstemningen i Gamla Stan. \n\n\n2 dag: \n\nStockholm og sejlads \n\n\nMorgenmad på hotellet. Derefter byrundtur i Stockholm\, hvor vi bl.a. passerer Sergels Torv tegnet af Piet Hein\, Stadshuset\, Ridderholmskirken\, Stockholms Slot\, Rigsdagshuset\, Operaen og meget mere. Vi slutter af med en gåtur i Gamla Stan\, det spændende middelalderkvarter med hyggelige små gader\, gyder og porte. Vi ser Stortorvet som dannede rammen om det ”Stockholmske blodbad”.Tid på egen hånd. \nMidt på eftermiddagen går vi ombord på en af Østersøens største færger\, med gågade\, butikker\, cafeer\, restauranter\, kasino og badeland. Vi indlogeres i kahytter på ”Promenade Class” med bad og toilet\, samt vindue mod gågaden. Kahytterne ligger på en af skibets øverste etager. \nNu er det tid til at nyde den fantastiske udsejling gennem den stockholmske skærgård – en flot oplevelse. Om aftenen er der musik og dans samt show i ”Atlantis Palace”. \n\n\n3 dag:\n\nHelsinki \n\n\nMorgenmad i buffetrestauranten. Midt på formiddagen lægger vi til i hjertet af Helsinki – Finlands smukke hovedstad – og kører en byrundtur på ca. 2 timer\, hvor vi skal passere de mange seværdigheder i byen. Vi passerer bl.a.: Den berømte Tempelpladsens kirke\, Domkirken\, Sibelius monumentet\, markedshallerne\, Esplanaden\, Finlandiahuset\, Det Olympiske stadion\, Operahuset\, Parlamentet og meget mere. Derefter er der tid på egen hånd\, til at studere byen nærmere.Helsinki er kendt for de mange design butikker og for Nordens største varehus – Stockmann. \nSidst på eftermiddagen går vi igen ombord\, og sejler tilbage til Stockholm. Nu færdes vi hjemmevant på det store skib\, og kan endnu engang nyde de mange tilbud. \n\n\n4 dag:\n\nStockholms skærgård \n\n\nMorgenmad i buffetrestauranten. Nu er det tid til at nyde indsejlingen til Stockholm – gennem den stockholmske skærgård som består af ca. 24.000 øer – og vi sejler ganske tæt forbi mange af øerne. En flot oplevelse. Efter ankomsten til Stockholm sætter vi kursen mod Danmark. Vi gør stop for pauser undervejs. \nHjemkomst kl. 19:00-22:10. \nDownload rejsebeskrivelse \nVil du se mere af Sverige\, kan du også tage med os på rejsen til den smukke svenske skærgård.. \n\nAlt det praktiske:\n\nDet får du med i prisen: \n\n\n\n\n1 x overnatning i dobbeltværelse \n\n\n\n\n2 x overnatning i kahyt på ”Promenade Class” \n\n\n\n\n3 x morgenbuffet \n\n\n\n\n1 x middag (1. dag) \n\n\n\n\nByrundtur i Stockholm \n\n\n\n\nByrundtur i Helsinki \n\n\n\n\nKørsel i 4-stjernet turistbus \n\n\n\nRejseleder\n\n\n\nInfo om skibet: \n\n\n\n\n203 meter lang \n\n\n\n\n31\,5 meter bredt \n\n\n\n\n12 dæk \n\n\n\n\n2850 passagerer \n\n\n\n\n6 restauranter \n\n\n\n\n7 barer \n\n\n\n\n6 butikker \n\n\n\n\nSpa \n\n\n\n\nMusik & dans \n\n\n\n\nShows \n\n\n\n\nCasino \n\n\n\n\nTaxfree butik \n\n\n\n\nLegeland \n\n\n\n\nSærlige tillæg: \n\n\n\n\nMiddag på skibet: 795\,-(2 x aftenbuffet inkl. drikkevarer) \n\n\n\n\nEnekahyt/eneværelse: 590\,- \n\n\n\n\nUdvendig kahyt: 120\,- \n\n\n\n\nBemærk: \n\n\n\n\nHusk pas! \n\n\n\n\nÆndringer i rækkefølgen af udflugter kan forekomme. \n\n\n\n\nBussen kører på følgende tidspunkter: \n\n\n\n\nBy:\nTidspunkt:\n\n\n\n\nHøjby\nkl. 05:40\n\n\nNykøbing Sj.\nkl. 05:50\n\n\nVig\nkl. 06:05\n\n\nAsnæs\nkl. 06:20\n\n\nFårevejle\nkl. 06:30\n\n\nSvinninge\nkl. 06:40\n\n\nHolbæk\nkl. 07:00\n\n\nRoskilde\nkl. 07:30\n\n\nValby St.\nkl. 08:15\n\n\nNærum\nkl. 08:40\n\n\nHelsingør\nkl. 09:00\n\n\n\n\n59.32932349999999\,18.0685808 \n\nSkal du med på turen?\n\nØnsker du at booke et sæde i bussen?Klik på “Bestil her” og gå direkte til vores booking. \n\n\n        Bestil her
URL:https://hafnia-rejser.dk/event/storslaaede-stockholm-og-silja-krydstogt/
CATEGORIES:Alle rejser,BUSREJSER 2-10 DAGE,GRUPPEREJSER,KRYDSTOGTER
ATTACH;FMTTYPE=image/jpeg:https://hafnia-rejser.dk/wp-content/uploads/5-529cb8bf.jpeg
END:VEVENT
BEGIN:VEVENT
DTSTART;TZID=Europe/Copenhagen:20260119T080000
DTEND;TZID=Europe/Copenhagen:20260812T170000
DTSTAMP:20260420T183910
CREATED:20230301T130021Z
LAST-MODIFIED:20260204T132406Z
UID:8528-1768809600-1786554000@hafnia-rejser.dk
SUMMARY:Bremen - 4 dage
DESCRIPTION:Kom med til\n\nLidt om turen\nBremen er indhyldet i charmen ved en livlig metropol. Her mødes tradition og det moderne\, UNESCO verdensarv\, urban livskvalitet og nordtysk hyggelig stemning.\n\nAntal dage: 4 dageHotel: Best Western Hotel zur Post \n\n\n\n\nAfrejsedata:\nPris pr. person\nBestil\n\n\n\n\nSøndag d. 09. august\nPris fra 4.995\,-\n\n        Bestil her\n    \n\n\n\n\n\n         \nStadsmusikanten\n\n\n         \nBøttcherstrasse\n\n\n         \nMarktplatz\n\n\n         \nRathaus\n\n\n         \nSchnoor\n\n\nSådan er programmet\nAktiviteterne på de enkelte dage er planlagt på følgende måde:\n1 dag:\n\nFantastiske Bremen \n\n\nVi sejler med Scandlines fra Rødby til Puttgarden\, og er i Bremen midt på eftermiddagen. \nDen smukke by ved Weser-floden rummer noget af det hele: kunst og kultur\, historie og hygge\, bindingsværk og bunkere\, smalle og skæve gyder samt maritim stil. \nByen er omgivet af vand\, med voldgraven mod nord og øst\, og floden Weser mod syd og vest. \nWeserfloden gjorde Bremen til en rig hansestad i middelalderen\, hvor varer kom til og fra byen med skibene\, der sejlede ind fra Nordsøen. \nVi indlogeres centralt i Bremen\, på det 4* Best Western Hotel zur POst\, med kort afstand til restauranter\, rådhuset og byens mange seværdigheder. \nSidst på eftermiddagen besøger vi kælderen under byens rådhus. \nHer tager vi et kig på den 5.000 m2 store vinkælder\, som med 600 års tradition\, og omkring 650 forskellige vine fra de 13 tyske vindyrkningsområder\, er Tysklands største vinkælder og rummer verdens største udvalg af tyske vine. \nVi slutter dagen af med at spise middag under buerne i den smukke rådhuskælders restaurant. \n\n\n2 dag: \n\nStadsmusikanternes by \n\n\nI dag går vi på tur rundt i den gamle del af Bremen\, hvor der overalt ses spor efter middelalderens rigdomme. \nMed lokalguide besøger vi også selve rådhuset\, som i sin dramatiske renæssancestil gør det til Tysklands måske mest fascinerende af slagsen\, med gotiske spir\, prægtige buer og overdådige krummelurer. \nPå torvet foran rådhuset står et af byens vartegn: skulpturen “Die Bremer Stadtmusikanten”\, som du måske kender fra eventyret af Brødrene Grimm. Æslet\, hunden\, katten og hanen flygter hjemmefra\, i håbet om et bedre liv\, som stadsmusikanter i Bremen. \nSchnoor er Bremens ældste og mest charmerende bydel\, kendt for de smalle brostensgader og tætliggende\, gamle bindingsværkshuse. \nResten af dagen er fri til\, på egen hånd\, at gå på opdagelse i den charmerende by\, og måske benytte chancen til at nyde det store udvalg af hyggelige restauranter og caféer. \n\n\n3 dag:\n\nBremerhaven \n\n\nHelt oppe ved Nordsøen\, lige ud til Vadehavet\, ligger Bremerhaven. \nBremerhaven blev anlagt i 1827 som aflastningshavn for Bremen\, som længe havde været en travl handelsby. \nDen nye by fik hurtigt en stor rolle i Europa- og verdenshistorien\, da havnen var central i udvandringen fra Europa til den nye verden: fra 1830 immigrerede over 7 millioner mennesker fra hele Europa\, via Bremerhaven\, til fjerne rejsemål på den anden side af jorden. \nHavnen er i dag kæmpestor\, faktisk den næststørste i Tyskland og\, ikke mindst\, en af verdens største terminaler for biltransport. Hvert år importeres og eksporteres omkring 1\,5 millioner biler igennem havnen – flere end i nogen anden havn i Europa. \nVi besøger det spændende Udvandrermuseum\, som fortæller historien om de millioner af mennesker\, der forlod det fattige Europa\, for at søge lykken i den nye verden – især i USA. Museet bringer historien og rejseforholdende helt tæt på. \nI aften spiser vi fælles middag i en restaurant i gåafstand fra hotellet. \n\n\n4 dag:\n\nHamborg og hjemrejse \n\n\nEfter morgenmaden pakker vi bussen\, og tager afsked med Bremen. \nPå vores vej hjemover\, kommer iv naturligt igennem Tysklands næststørste by\, Hamborg. \nFra bussen får vi bl.a. et glimt af Europas tredjestørste havn\, som er rygraden i byens økonomi\, og et logistisk knudepunkt\, som årligt håndterer millionvis af containere. \nHavneområdet har de seneste år undergået en kolossal forvandling. Gamle pakhuse er moderniseret\, og ny arkitektur er opstået. \nVi spiser frokost i Hamborg\, inden vi kører det sidste stykke vej til færgen i Puttgarden. \nHjemkomst midt på aftenen. \nDownload rejsebeskrivelse \nEr du interesseret i andre rejser til Tyskland\, kan du f.eks. også tage med os til Stralsund og Rügen. \n\nAlt det praktiske:\n\nDet får du med i prisen: \n\n\n\n\n3 x overnatning i delt dobbeltværelse med morgenmad \n\n\n\n\n1 x frokost (4. dag) \n\n\n\n\n2 x middag (1. og 3. dag) \n\n\n\n\nBesøg og rundvisning i vinkælderen “Ratskeller” \n\n\n\n\nByvandring i Bremen \n\n\n\n\nRundvisning i Bremens rådhus \n\n\n\n\nEntré i Udvandrermuseet \n\n\n\n\nKørsel i 4-stjernet turistbus \n\n\n\nRejseleder\n\n\n\nSærlige tillæg: \n\n\n\nTillæg eneværelse: 1.020\,- \n\n\n\nBemærk: \n\n\n\n\nHusk pas! \n\n\n\n\nÆndringer i rækkefølgen af udflugter kan forekomme. \n\n\n\n\nBussen kører på følgende tidspunkter: \n\n\n\n\nBy:\nTidspunkt:\n\n\n\n\nHøjby\nkl. 04:55\n\n\nNykøbing Sj.\nkl. 05:05\n\n\nVig\nkl. 05:20\n\n\nAsnæs\nkl. 05:35\n\n\nFårevejle\nkl. 05:45\n\n\nJyderup\nkl. 05:45\n\n\nSvinninge\nkl. 05:55\n\n\nHolbæk\nkl. 06:15\n\n\nRingsted\nkl. 06:45\n\n\nRoskilde\nkl. 05:40\n\n\nHøje Tåstrup\nkl. 06:00\n\n\nValby\nkl. 06:30\n\n\nØlby\nkl. 07:00\n\n\nRønnede\nkl. 07:20\n\n\n\n\n53.0676\,8.8000 \n\nSkal du med på turen?\n\nØnsker du at booke et sæde i bussen?Klik på “Bestil her” og gå direkte til vores booking. \n\n\n        Bestil her
URL:https://hafnia-rejser.dk/event/bremen-4-dage/
CATEGORIES:Aktuelle rejser,Alle rejser,BUSREJSER 2-10 DAGE,Forside banner
ATTACH;FMTTYPE=image/jpeg:https://hafnia-rejser.dk/wp-content/uploads/Stadsmusikanten-1.jpg
END:VEVENT
BEGIN:VEVENT
DTSTART;VALUE=DATE:20260122
DTEND;VALUE=DATE:20260906
DTSTAMP:20260420T183910
CREATED:20230301T140001Z
LAST-MODIFIED:20260217T090258Z
UID:8665-1769040000-1788652799@hafnia-rejser.dk
SUMMARY:På opdagelse i det østlige Østrig - 8 dage
DESCRIPTION:Kom med til\n\nLidt om turen\nRomantiske flodlandskaber omgivet af bjergskråninger\, flot dekoreret med vinmarker og gamle røverborge.\n\nAntal dage: 8 dageHotel: Hotel Donauhof \n\n\n\n\nAfrejsedata:\nPris pr. person\nBestil\n\n\n\n\nLørdag d. 29. august\nPris fra 9.995\,-\n\n        Bestil her\n    \n\n\n\n\n\n         \nSteiermark Tourismus\n\n\n         \nSteiermark Tourismus\n\n\n         \nSteimark Tourismus\n\n\n         \n\n\nFotokreditering: Steiermark Tourismus\, Harry Schiffer\nSådan er programmet\nAktiviteterne på de enkelte dage er planlagt på følgende måde:\n1 dag:\n\nOvernatning i Midttyskland \n\n\nVi sejler til Tyskland\, via Gedser-Rostock. Under overfarten har vi inkluderet Scandlines’ store brunchbuffet. \nPå turen igennem Tyskland passeres Berlin\, Dessau og Leipzig. \nMed passende pauser undervejs\, går turen til området omkring den tidligere øst/vest grænse ved Rudolphstein\, nær byen Hof\, hvor vi overnatter. \n\n\n2 dag: \n\nBarokbyen Schärding og smukke Donau \n\n\nVi fortsætter turen i sydøstlig retning\, ned langs den tjekkiske grænse\, og passerer byerne Regensburg og Passau. \nKort efter krydser vi grænsen til Østrig\, og ankommer til den smukke barokby Schärding\, som ligger malerisk ud til Inn-floden. \nOmkranset af en bymur\, pryder de gavlvendte og farverige bygninger byens hyggelige torv. \nI disse smukke\, middelalderlige omgivelser\, nyder vi dagens frokost. \nUd på eftermiddagen går rejsen videre mod byen Linz\, og gennem Strudengau – et smukt dalføre\, hvor Donaufloden spiller hovedrollen. \nSidst på eftermiddagen ankommer vi til den lille by Emmersdorf\, og Hotel Donauhof\, hvor vi indlogerer os for de næste fem nætter. \nHotellet er smukt beliggende\, ved bredden af Donau\, og med det mægtige Stift Melk knejsende over byen\, på den anden side af floden. \nHver aften spiser vi fælles middag på hotellet. \n\n\n3 dag:\n\nStift Melk og sejltur på Donau \n\n\nDagens første udflugtsmål er mægtige Stift Melk\, som ligger majestætisk hævet over Donau. \nHer har været kloster i mere end 900 år og har\, foruden at være bolig og arbejdsplads for benediktinske munke\, gennem tiderne udviklet sig til i dag også at indeholde Stiftsgymnasium Melk\, med elever af begge køn. \nVi går på guidet rundvisning til bl.a. Kaisergangen\, Marmorsalen\, Stiftsbiblioteket\, Stiftskirken og balkonen ud mod Donau. \nEfterfølgende er der tid til\, på egen hånd\, at kigge nærmere på omgivelserne og den tilhørende park\, ligesom der er mulighed for lidt frokost i stedets cafeteria\, eller i byens gågade. \nI løbet af eftermiddagen sejler vi ud fra byen Melk\, gennem Wachaudalen – den smukkeste og mest romantiske strækning på Donaufloden – omgivet af højdedrag\, vinmarker\, hyggelige vinbyer og gamle borge. \n\n\n4 dag:\n\nDe østlige alper \n\n\nI dag sætter vi kurs ned mod alperne\, her i den østlige ende af alperegionen. \nVores første mål for turen er dalen ind gennem Hochswab bjergene\, som når højder på over 2000 meter\, og dermed er de højeste i det østlige Østrig. \nEn meget smuk tur\, og god naturoplevelse mellem de høje bjerge\, og langs den smaragdgrønne Salza-flod. \nVed middagstid er vi fremme ved Mariazell. \nByen er kendt for sin store basilika\, der er en af de helt store valfartskirker for den katolske kirke\, med den hellige madonnafigur\, som opbevares i det overdådigt udsmykkede “Gnadenkapelle”. Kirkens interiør i øvrigt\, kan tage pusten fra de fleste. \nI den hyggelige by er der mange restauranter og butikker\, og god mulighed for at spise en lækker frokost\, inden turen atter går nordpå\, og retur til vores hotel. \n\n\n5 dag:\n\nWachaudalen med bus og lokaltog \n\n\nDagen i dag tilbringer vi i lokalområdet. \nVi starter dagen med at stige på toget i “vores by”\, Emmersdorf. \nLokalbanen følger Wachaudalen og Donaufloden\, og kommer i nærkontakt med vinmarker og flere hyggelige vinbyer. \nEn både sjov og flot tur\, som slutter i den kendte vinby\, Dürnstein. \nOven over byen knejser ruinerne af den borg\, hvor den engelske konge\, Richard Løvehjerte\, sad fanget\, imens Robin Hood passede på England. Her i området driver mange vinbønder et spisested ved siden af deres vinproduktion\, og dagens frokost forsøger vi at arrangere ved en af disse.  \nTuren retur til hotellet byder på en køretur gennem Spitzer Graben\, en slugt omgivet af stejle vinmarker. \nEfter at have været lidt inde i baglandet\, åbner der sig en fantastisk udsigt ned over vinmarkerne\, mod floden og byen Weissenkirchen. En fantastisk smuk panoramaudsigt\, som vi nyder ved et lille stop. \n\n\n6 dag:\n\nMed tog gennem bjergrige Tormäuer naturpark \n\n\nEfter morgenmaden sætter vi atter kursen sydpå\, mod alperne\, hvor vi skifter vores bus ud med et tog\, og en tur på den mest spændende del af smalsporsbanen “Mariazellerbahn.” \nStrækningen vi skal køre bliver kaldt “Himmeltrappen.” Banen går gennem det bjergrige område Tormäuer naturpark\, som er utilgængeligt med bus\, og store dele af området helt uden veje. \nEfter denne oplevelsesrige togtur\, fortsætter vi med vores bus ned gennem alperne\, over Seeberg bjergpasset\, og de mange flotte udsigter over det bjergrige område. \nEfter frokost drager vi igen nord på\, og hotellet i Emmersdorf\, via den smukke bjergsø Erlaufsee. \n\n\n7 dag:\n\nMod Passau og flodsammenfletningen Donau / Inn \n\n\nEfter morgenmaden pakker vi bussen\, og påbegynder hjemrejsen. \nVia Linz kører vi til grænsebyen Passau\, og er nu tilbage i Tyskland. \nPassau\, med sin store domkirke\, er smukt beliggende ved sammensmeltningen af de to floder\, Donau og Inn. \nVi kører op til “Veste Oberhaus” – en fæstning grundlagt i 1219\, og har fungeret som fæstning for biskoppen af Passau. Herfra har vi en flot udsigt\, dels over byen\, men også over det tydelige flodsammenløb. \nEfter tid på egen hånd i byen til at spise frokost\, går turen videre nordpå\, op mod Regensburg og Hof. \nSom på udrejsen\, overnatter vi på den gamle øst / vest grænse ved Frankenwald. \n\n\n8 dag:\n\nHjemrejse \n\n\nPå turens sidste etape passerer vi igen Leipzig og Berlin\, inden vi når Rostock\, hvorfra vi sejler til Gedser. \nHjemkomst kl. 19:00 – 21:00. \nDownload rejsebeskrivelse \nSe smuk dansk natur på vores rejse rundt om  Limfjorden. \n\nAlt det praktiske:\n\nDet får du med i prisen: \n\n\n\n\n7 x overnatning i delt dobbeltværelse med morgenmad \n\n\n\n\n1 x brunchbuffet \n\n\n\n\n3 x frokost (2.\, 5. og 6. dag) \n\n\n\n\n7 x middag \n\n\n\n\nEntré og rundvisning på Stift Melk \n\n\n\n\nSejltur på Donau \n\n\n\n\nTogtur gennem bjergrig naturpark \n\n\n\n\nTogtur gennem vinmarker i Wachaudalen \n\n\n\n\nBesøg i Mariazell og basilikaen \n\n\n\n\nUdflugter iflg. beskrivelse \n\n\n\n\nKørsel i 4-stjernet turistbus \n\n\n\n\nRejseleder Jens Thuun \n\n\n\n\nSærlige tillæg: \n\n\n\n\nTillæg eneværelse: 1.450\,- \n\n\n\n\nBuffet på hjemrejsen\, inkl. drikkevarer: 205\,- \n\n\n\n\nBemærk: \n\n\n\n\nHusk pas! \n\n\n\n\nÆndringer i rækkefølgen af udflugter kan forekomme. \n\n\n\n\nBussen kører på følgende tidspunkter: \n\n\n\n\nBy:\nTidspunkt:\n\n\n\n\nHøjby\nkl. 04:55\n\n\nNykøbing Sj.\nkl. 05:05\n\n\nVig\nkl. 05:20\n\n\nAsnæs\nkl. 05:35\n\n\nFårevejle\nkl. 06:30\n\n\nJyderup\nkl. 05:45\n\n\nSvinninge\nkl. 05:55\n\n\nHolbæk\nkl. 06:15\n\n\nRingsted\nkl. 06:45\n\n\nRoskilde\nkl. 05:30\n\n\nHøje Taastrup\nkl. 05:55\n\n\nValby\nkl. 06:15\n\n\nØlby\nkl. 06:45\n\n\nRønnede\nkl. 07:15\n\n\n\n\n48.2434\,15.3347 \n\nSkal du med på turen?\n\nØnsker du at booke et sæde i bussen?Klik på “Bestil her” og gå direkte til vores booking. \n\n\n        Bestil her
URL:https://hafnia-rejser.dk/event/paa-opdagelse-i-det-oestlige-oestrig-8-dage/
CATEGORIES:Aktuelle rejser,Alle rejser,BUSREJSER 2-10 DAGE,Forside banner
ATTACH;FMTTYPE=image/jpeg:https://hafnia-rejser.dk/wp-content/uploads/Stift-Melk-WEB.jpg
END:VEVENT
END:VCALENDAR