BEGIN:VCALENDAR
VERSION:2.0
PRODID:-//HAFNIA REJSER - ECPv6.15.17.1//NONSGML v1.0//EN
CALSCALE:GREGORIAN
METHOD:PUBLISH
X-ORIGINAL-URL:https://hafnia-rejser.dk
X-WR-CALDESC:Begivenheder for HAFNIA REJSER
REFRESH-INTERVAL;VALUE=DURATION:PT1H
X-Robots-Tag:noindex
X-PUBLISHED-TTL:PT1H
BEGIN:VTIMEZONE
TZID:Europe/Copenhagen
BEGIN:DAYLIGHT
TZOFFSETFROM:+0100
TZOFFSETTO:+0200
TZNAME:CEST
DTSTART:20220327T010000
END:DAYLIGHT
BEGIN:STANDARD
TZOFFSETFROM:+0200
TZOFFSETTO:+0100
TZNAME:CET
DTSTART:20221030T010000
END:STANDARD
BEGIN:DAYLIGHT
TZOFFSETFROM:+0100
TZOFFSETTO:+0200
TZNAME:CEST
DTSTART:20230326T010000
END:DAYLIGHT
BEGIN:STANDARD
TZOFFSETFROM:+0200
TZOFFSETTO:+0100
TZNAME:CET
DTSTART:20231029T010000
END:STANDARD
BEGIN:DAYLIGHT
TZOFFSETFROM:+0100
TZOFFSETTO:+0200
TZNAME:CEST
DTSTART:20240331T010000
END:DAYLIGHT
BEGIN:STANDARD
TZOFFSETFROM:+0200
TZOFFSETTO:+0100
TZNAME:CET
DTSTART:20241027T010000
END:STANDARD
BEGIN:DAYLIGHT
TZOFFSETFROM:+0100
TZOFFSETTO:+0200
TZNAME:CEST
DTSTART:20250330T010000
END:DAYLIGHT
BEGIN:STANDARD
TZOFFSETFROM:+0200
TZOFFSETTO:+0100
TZNAME:CET
DTSTART:20251026T010000
END:STANDARD
BEGIN:DAYLIGHT
TZOFFSETFROM:+0100
TZOFFSETTO:+0200
TZNAME:CEST
DTSTART:20260329T010000
END:DAYLIGHT
BEGIN:STANDARD
TZOFFSETFROM:+0200
TZOFFSETTO:+0100
TZNAME:CET
DTSTART:20261025T010000
END:STANDARD
BEGIN:DAYLIGHT
TZOFFSETFROM:+0100
TZOFFSETTO:+0200
TZNAME:CEST
DTSTART:20270328T010000
END:DAYLIGHT
BEGIN:STANDARD
TZOFFSETFROM:+0200
TZOFFSETTO:+0100
TZNAME:CET
DTSTART:20271031T010000
END:STANDARD
END:VTIMEZONE
BEGIN:VEVENT
DTSTART;VALUE=DATE:20231030
DTEND;VALUE=DATE:20260724
DTSTAMP:20260421T051028
CREATED:20230301T121541Z
LAST-MODIFIED:20260204T132014Z
UID:6730-1698624000-1784851199@hafnia-rejser.dk
SUMMARY:Den smukke svenske skærgård - 4 dage
DESCRIPTION:Kom med til\n\nLidt om turen\nDen svenske vestkyst nord for Göteborg er gennemskåret af fjorde og smukke skærgårde. Her byder ferien på smukke naturoplevelser og idylliske bymiljøer.\n\n\nAntal dage: 4 dageHotel:Scandic Swania \n\n\n\n\nAfrejsedata:\nPris pr. person\nBestil\n\n\n\n\nMandag d. 20. juli\nPris fra 5.625\,-\n\n        Bestil her\n    \n\n\n\n\n\n         \nFjällbacka havn over by\n\n\n         \nSkilt Ingrid Bergmans Torg\n\n\nSådan er programmet\nAktiviteterne på de enkelte dage er planlagt på følgende måde:\n1 dag:\n\nTrollhättan \n\n\nVia færgeoverfart Helsingør-Helsingborg når vi vores svenske naboland\, kører op over Hallandsåsen og op langs den svenske vestkyst. \nMidt på eftermiddagen ankommer vi til Trollhättan.  \nHer indlogerer vi os på Scandic Swania\, smukt beliggende i centrum af byen\, og lige ud til kanalen som Götaelven ledes igennem. \nDet hyggelige hotel blev oprindelig bygget som rådhus i begyndelsen af 1900-tallet\, og de originale loftsmalerier eksisterer stadig fra den tid. \nFra den nærliggende “Kopparklinten” har vi en fantastisk udsigt over Götaelven\, som med sine 92 kilometer er Sveriges mest vandrige elv. \nI aften spiser vi fælles middag på hotellet. \n\n\n2 dag: \n\nAlaska \n\n\nI dag sætter vi kursen mod det nordlige Bohuslän\, og hovedstaden Strömstad. \nHerfra sejler vi til skærgårdsøen Nord Långö\, der i Sverige er bedre kendt som Alaska. \nHer på øen anlagde den hjemvendte guldgraver Hilma Svedahl et unikt sten- og blomsterparadis i slutningen af 1920’erne\, inspireret af sine år i Amerika. På en guidet tur oplever vi denne fantastiske og unikke have\, med store templer\, buer\, broer og blomsterterrasser. Turen rundes af med kaffe og hjemmebag. \nVi fortsætter dagen med et besøg hos den svenske stjernekok Dan Lexö\, på øen Resö\, hvor vi spiser en lækker frokost i flotte omgivelser. \nEftermiddagen tilbringer vi\, på egen hånd\, tilbage i dejlige Trollhättan. Måske vil du tage et kig på sluseområdet\, en kort spadseretur fra hotellet? \nOm aftenen fælles middag på hotellet. \n\n\n3 dag:\n\nLäckbergs Fjällbacka \n\n\nVi starter dagen med et kig på nogle af helleristningerne ved Tanum. Med over 500 forskellige helleristningssteder\, med over 10.000 motiver tilsammen\, er det verdens arealmæssigt største. \nLidt herfra er fiskerlejet Grebbestad\, en sand perle og populær sommer- og badeby. Her er stadig trawlere\, der har Grebbestad som hjemmehavn. \nHerefter fortsætter vi til forfatteren Camilla Läckbergs Fjällbacka. Her får vi en guidet rundtur\, der bringer os igennem flere af miljøerne fra de kendte romaner. Fjällbacka er en idyllisk fiskerby med fine træhuse\, omgivet af små skærgårdsøer og særligt elsket af Ingrid Bergman\, som tilbragte mange somre her. Langs havnepromenaden er et væld af hyggelige restauranter\, og gode muligheder for evt. at finde lidt frokost. \nFælles middag på vores hyggelige hotel i Trollhättan. \n\n\n4 dag:\n\nSkärhamn og Nordisk Akvarelmuseum \n\n\nEfter morgenmaden pakker vi bussen og kører sydpå. \nHjemturen går over Orust og videre ud på Tjörn\, hvor vi gør ophold i den hyggelige lille by Skärhamn\, med farvestrålende små træhuse og originale fiskerhuse. \nHer besøger vi Nordisk Akvarelmuseum\, med værker af godt 100 nordiske kunstnere. \nVi forlader den smukke svenske skærgård via Tjørnbroerne\, og kører retur til Danmark. \nHjemkomst først på aftenen. \nDownload rejsebeskrivelse \nEr du interesseret i andre spændende busrejser\, kan du f.eks. også tage med os til smukke Celle i Tyskland. \n\nAlt det praktiske:\n\nDet får du med i prisen: \n\n\n\n\n3 x overnatn. i delt dobbeltvær. med morgenmad \n\n\n\n\n2 x frokost (1. og 2. dag) \n\n\n\n\n3 x middag inkl. kaffe på hotellet \n\n\n\n\nUdflugter iflg. program  \n\n\n\n\nBådtur\, guidning samt kaffe og kage på øen Alaska \n\n\n\n\nGuidet byvandring i Fjällbacka \n\n\n\n\nBesøg i Nordisk Akvarelmuseum \n\n\n\n\nKørsel i 4-stjernet turistbus \n\n\n\nRejseleder\n\n\n\nSærlige tillæg: \n\n\n\nTillæg eneværelse: 840\,- \n\n\n\nBemærk: \n\n\n\n\nHusk billed-ID \n\n\n\n\nÆndringer i rækkefølgen af udflugter kan forekomme. \n\n\n\n\nBussen kører på følgende tidspunkter: \n\n\n\n\nBy:\nTidspunkt:\n\n\n\n\nHøjby\nkl. 06:40\n\n\nNykøbing Sj.\nkl. 06:50\n\n\nVig\nkl. 07:05\n\n\nAsnæs\nkl. 07:20\n\n\nFårevejle\nkl. 07:30\n\n\nSvinninge\nkl. 07:40\n\n\nJyderup\nkl. 07:30\n\n\nHolbæk\nkl. 08:00\n\n\nRoskilde\nkl. 08:30\n\n\nHøje Tåstrup\nkl. 08:50\n\n\nValby St.\nkl. 09:15\n\n\nNærum\nkl. 09:40\n\n\nHelsingør\nkl. 10:00\n\n\n\n\n58.2845\,12.2851 \n\nSkal du med på turen?\n\nØnsker du at booke et sæde i bussen?Klik på “Bestil her” og gå direkte til vores booking. \n\n\n        Bestil her
URL:https://hafnia-rejser.dk/event/den-smukke-svenske-skaergaard/
CATEGORIES:Aktuelle rejser,Alle rejser,BUSREJSER 2-10 DAGE,Forside banner
ATTACH;FMTTYPE=image/jpeg:https://hafnia-rejser.dk/wp-content/uploads/fjallbacka-havn-over-by.jpg
END:VEVENT
BEGIN:VEVENT
DTSTART;VALUE=DATE:20241113
DTEND;VALUE=DATE:20260612
DTSTAMP:20260421T051028
CREATED:20230301T110044Z
LAST-MODIFIED:20260121T093136Z
UID:2538-1731456000-1781222399@hafnia-rejser.dk
SUMMARY:André Rieu
DESCRIPTION:Kom med til\n\nLidt om turen\nViolin-superstjernen André Rieu har gjort klassisk musik tilgængelig for millioner af mennesker over hele verden. I 2026 gæster han atter Danmark\, og vi har sikret os gode pladser til koncerten i Royal Arena i København.\n\n\n\nAfrejsedata:\nPris pr. person\nBestil\n\n\n\n\nTorsdag d. 11. juni\nPris 1545\,-\n\n        Bestil her\n    \n\n\n\n\n     \nAndre-Rieu-fra-Livenation_1-scaled-81ffd20e\n\nSådan er programmet\nTuren:\n\nAndré Rieus romantiske og glade koncerter\, er en blanding af lette klassikere\, valse\, musik fra film\, opera og popsange\, fremført af hans store Johann Strauss Orchestra\, verdens største private orkester. \nRieu har haft fodboldpublikum svajende til Sjostakovitj under flere Champions League-kampe\, og hans verdensturnéer når ud til over en halv million mennesker hvert år! \nMaestroen glæder sig til at komme tilbage til Herning og København: “Jeg er absolut henrykt over at vende tilbage til Danmark! Den varme og passion\, som det danske publikum udviser\, overrasker mig altid. Jeg kan ikke vente med at dele mit nye show med mine fans. Lad os skabe uforglemmelige minder sammen.” \nDe flotte koncerter garanterer en magisk og festlig oplevelse helt fra start\, når Rieu og hans musikere går på scenen med overdådige kostumer\, og den store skærm bag orkestret\, der viser smukke billeder\, skræddersyet til hver sang. \nAndré Rieus store passion for musikken\, hans finurlige humor samt solisterne i verdensklasse\, gør koncerterne til en uforglemmelig oplevelse. \nPå hjemturen serveres en sandwich og en øl eller vand i bussen. \nBuskørsel til og fra Royal Arena og gode pladser i billetkategori PL2. \nHjemkomst ca. kl. 23:00 – 01:00 \n\nAlt det praktiske:\n\nDet får du med i prisen: \n\n\n\n\nKoncertbillet kategori PL2 \n\n\n\n\nSandwich og 1 øl/vand på hjemturen \n\n\n\n\nBuskørsel i 4-stjernet turistbus \n\n\n\n\nSærlige tillæg: \n\n\n\n\nBemærk: \n\n\n\n\nBussen kører på følgende tidspunkter: \n\n\n\n\nBy:\nTidspunkt:\n\n\n\n\nHøjby\nkl. 15:55\n\n\nNykøbing Sj.\nkl. 16:05\n\n\nVig\nkl. 16:20\n\n\nAsnæs\nkl. 16:35\n\n\nFårevejle\nkl. 16:45\n\n\nSvinninge\nkl. 16:55\n\n\nHolbæk\nkl. 17:15\n\n\nRoskilde\nkl. 17:45\n\n\n\nSkal du med på turen?\n\nØnsker du at booke et sæde i bussen?Klik på “Bestil her” og gå direkte til vores booking. \n\n\n        Bestil her
URL:https://hafnia-rejser.dk/event/andre-rieu/
CATEGORIES:Aktuelle rejser,Alle rejser,Endagsture,Forside banner,REVY, KONCERT, SKUESPIL OG MUSICAL
ATTACH;FMTTYPE=image/jpeg:https://hafnia-rejser.dk/wp-content/uploads/Andre_Rieu_1_Andre_Rieu_Productions-scaled.jpg
END:VEVENT
BEGIN:VEVENT
DTSTART;VALUE=DATE:20241126
DTEND;VALUE=DATE:20260605
DTSTAMP:20260421T051028
CREATED:20230301T104543Z
LAST-MODIFIED:20260204T111301Z
UID:7710-1732579200-1780617599@hafnia-rejser.dk
SUMMARY:Limfjordens øer - 4 dage
DESCRIPTION:Kom med til\n\nLidt om turen\nLimfjordslandet er det rene paradis.\nVi oplever det smukke landskab\, lokale delikatesser og lange\, uforstyrrede kyster.\n\nAntal dage: 4 dageHotel: Løgstør Parkhotel \n\n\n\n\nAfrejsedata:\nPris pr. person\nBestil\n\n\n\n\nMandag d. 01. juni\nPris fra 6.150\,-\n\n        Bestil her\n    \n\n\n\n\n\n         \nNationalpark Thy\n\n\n         \nFjordenhus\n\n\n         \nØsters fra PIxabay\n\n\nSådan er programmet\nAktiviteterne på de enkelte dage er planlagt på følgende måde:\n1 dag:\n\nDomkirkebyen Viborg og Muslingebyen Løgstør \n\n\nVi starter dagen i den historiske domkirkeby Viborg\, som gennem tusind år fungerede som Danmarks magtcentrum.  \nViborg er en af Danmarks ældste byer\, med en lang og fascinerende historie bag sig. Vi går en tur i byen og spiser frokost\, inden vi fortsætter nord over\, mod Løgstør. \nLøgstør er bl.a. kendt for sin autentiske havn og Frederik VII’s kanal\, helt tæt ved Limfjorden. Indtil 1850’erne havde skibstrafikken i århundreder haft problemer ved de lavvandede Løgstør Grunde\, hvorfor man besluttede at grave en kanal forbi grundene. 5 år tog det at udgrave den 4\,4 km. lange kanal\, med håndkraft! \nSidst på eftermiddagen tjekker vi ind på Løgstør Parkhotel. Hver aften spiser vi middag i hotellets restaurant\, med drikkevarer ad libitum under middagen inkluderet. \n\n\n2 dag: \n\nFur \n\n\nI dag skal vi opleve den lille ø Fur – en af Limfjordens smukkeste naturperler\, og især kendt for sit moler med indhold af velbevarede fossile fisk\, insekter\, krybdyr og planter.  \nNordøen domineres af en øst-vestgående bakkeryg med stejle skrænter ned mod Limfjorden. Mod syd breder det flade frugtbare agerland sig.  \nVed ankomst til øen får vi en lokalguide ombord på bussen\, som viser os rundt på øen. \nFrokost på Fur Bryghus. \n\n\n3 dag:\n\nVenø – Limfjordens hjerte \n\n\n5 km nord for Struer og 256 meter fra fastlandet ligger den lille ø Venø – Limfjordens hjerte. Her er grønne marker og brune hedeflader\, stejle skrænter\, dejlige skovområder og Danmarks mindste kirke. \nVi besøger Venø Seafood\, et sandt forretningseventyr\, stiftet i 2016\, af den dengang kun 18-årige Kristian Borbjerggaard\, og som har gjort Limfjordsøsteren ekstremt populær blandt danskerne.  \nPå turen tilbage til Løgstør\, kører vi igennem Nationalpark Thy – Danmarks første nationalpark – og største vildmark med klithedelandskaber langs kysten. Et stort og uspoleret naturområde\, som i den nordlige ende har mere end 30 forskellige fuglearter\, og hvor odderen har fundet fristed i områdets søer.  \nVi starter i den sydlige ende af nationalparken\, hvor Agger Tange er et af Nordeuropas vigtigste hvilesteder for mange flokke trækfugle\, og udpeget som internationalt fuglebeskyttelsesområde. Samtidig er nationalparken en vigtig del af dansk historie\, med adskillige gravhøje fra bronzealderen\, og de mange tyske bunkere langs kysten. \n\n\n4 dag:\n\nKoldkrigsmuseet REGAN Vest \n\n\nEfter morgenmaden pakker vi bussen og forlader hotellet\, – men vi er slet ikke færdige med at opleve. \nBunkeren REGAN Vest ligger skjult\, 60 meter en kridtbakke\, og blev opført i al hemmelighed i 1960’erne\, med det formål at huse regeringen\, embedsmænd samt den siddende regering\, i tilfælde af en atomkrig. \nVi får en spændende rundvisning i bunkeren som står uberørt\, og fuldt møbleret med alt originalt interiør intakt. \nInden vi for alvor starter hjemturen\, spiser vi frokost\, i forbindelse med REGAN Vest. \nHjemturen går via Vejle og Lillebælt til Fyn\, over Storebælt og tilbage til Sjælland. \nHjemkomst først på aftenen. \nDownload rejsebeskrivelse. \nEr du glad for at rejse i Danmark\, kan du f.eks. også tage med os til Solskinsøen Bornholm. \n\nAlt det praktiske:\n\nDet får du med i prisen: \n\n\n\n\n3 x overnatning i delt dobbeltværelse med morgenmad \n\n\n\n\n3 x frokost (1.\, 2. og 4. dag) \n\n\n\n\n1 x frokostpakke fra hotel \n\n\n\n\n3 x middag inkl. drikkevarer \n\n\n\n\nUdflugt til Fur med lokalguide \n\n\n\n\nUdflugt til Venø\, inkl. besøg på Venø Seafood \n\n\n\n\nUdflugt i Nationalpark Thy \n\n\n\n\nRundvisning i Koldkrigsmuseet REGAN Vest \n\n\n\n\nKørsel i 4-stjernet turistbus \n\n\n\nRejseleder\n\n\n\nSærlige tillæg: \n\n\n\nÆndringer i rækkefølgen af udflugter kan forekomme. \n\n\n\n\nTillæg eneværelse: 690\,- \n\n\n\nBemærk: \n\n\nBussen kører på følgende tidspunkter: \n\n\n\n\nBy:\nTidspunkt:\n\n\n\n\nHøjby\nkl. 06:35\n\n\nNykøbing Sj.\nkl. 06:45\n\n\nVig\nkl. 07:00\n\n\nAsnæs\nkl. 07:15\n\n\nFårevejle\nkl. 07:25\n\n\nSvinninge\nkl. 07:35\n\n\nJyderup\nkl. 07:50\n\n\nValby\nkl. 06:05\n\n\nHøje-Taastrup\nkl. 06:25\n\n\nRoskilde\nkl. 06:45\n\n\nHolbæk\nkl. 07:15\n\n\nKorsør\nkl. 08:30\n\n\n\n\n56.9535\,9.2518 \n\nSkal du med på turen?\n\nØnsker du at booke et sæde i bussen?Klik på “Bestil her” og gå direkte til vores booking. \n\n\n        Bestil her
URL:https://hafnia-rejser.dk/event/limfjordens-oer-4-dage/
CATEGORIES:Aktuelle rejser,Alle rejser,BUSREJSER 2-10 DAGE,Forside banner
ATTACH;FMTTYPE=image/jpeg:https://hafnia-rejser.dk/wp-content/uploads/Oesters-pixabay-1.jpg
END:VEVENT
BEGIN:VEVENT
DTSTART;VALUE=DATE:20241210
DTEND;VALUE=DATE:20250820
DTSTAMP:20260421T051028
CREATED:20230301T173222Z
LAST-MODIFIED:20250618T125415Z
UID:8051-1733788800-1755647999@hafnia-rejser.dk
SUMMARY:Fruens Bøge\, å-sejltur og Den Fynske Landsby
DESCRIPTION:Kom med til\n\nLidt om turen\nRomantisk sejltur på Odense å\, med Zoo på begge sider af båden\, til det historiske område Fruens Bøge og den berømte æggekage på Carlslund. Herefter et nostalgisk tilbageblik i Den Fynske Landsby.\n\n\n\nAfrejsedata:\nPris pr. person\nBestil\n\n\n\n\nTirsdag d. 19. august\nPris 1025\,-\n\n        Bestil her\n    \n\n\n\n\n\n         \nOdense å\n\n\n         \nCarlslund\n\n\n         \nBåd på Odense å\n\n\n         \nVæltet træ\n\n\nSådan er programmet\nTuren:\n\nMed bussen kører vi ind midt i Odense\, hvor vi skifter fra bus til båd\, og sejler den idylliske tur ad de odenseanske vandveje. \nNyd den afslappede sommerstemning\, når båden roligt glider frem gennem det maleriske natursceneri omkring os\, her på Odenses grønne åre. Træernes grene rækker ind over vandet\, og vi sejler lige igennem Zoologisk Have og under havens broer. Omkring os passeres vi stille af åens svaner\, kajakker og vandcykler. \nVi stiger af båden ved Erik Bøghs Sti og går ca. 10 minutter ad det slyngede stisystem\, gennem den smukkeste bøgeskov\, til Restaurant Carlslund. Her i Fruens Bøge Skov tog Odenses finere borgerskab på skovture tilbage i 1800-tallet\, og stedet var i en årrække forbeholdt disse folk til forlystelser og dansant. Af lystskovens tidligere fem traktørsteder\, findes i dag kun det stråtækte bindingsværkshus\, Carlslund.Her nyder vi restaurantens specialitet – æggekage med flæsk og  bacon\, purløg\, sennep og rugbrød. \nHer fra kører bussen os den korte strækning\, til Den Fynske Landsby.På Frilandsmuseet kommer vi tilbage til et 1800-tals bymiljø\, som det ville have set ud på H. C. Andersens tid. Gå på opdagelse ved gadekæret\, i præstegården og vandmøllen\, samt i mange af Fyns så karakteristiske bindingsværkshuse med blomstrende haver og husdyr.Ophold på ca. 2 timer\, inden hjemkørsel til Sjælland.  \nHjemkomst ca. kl. 16:30 – 18:45 \nDownload beskrivelse \n\nAlt det praktiske:\n\nDet får du med i prisen: \n\n\n\n\nSejltur på Odense å \n\n\n\n\nFrokost i Rest. Carlslund \n\n\n\n\nEntré i Den Fynske Landsby \n\n\n\n\nBuskørsel i 4-stjernet turistbus \n\n\n\n\nSærlige tillæg: \n\n\n\n\nBemærk: \n\n\n\n\nBussen kører på følgende tidspunkter: \n\n\n\n\nBy:\nTidspunkt:\n\n\n\n\nØsterbro\nkl. 07:20\n\n\nValby\nkl. 07:45\n\n\nHøje Taastrup\nkl. 08:15\n\n\nRoskilde\nkl. 08:30\n\n\nHolbæk\nkl. 08:25\n\n\nSvinninge\nkl. 08:45\n\n\nJyderup\nkl. 09:00\n\n\nKorsør\nkl. 09:45\n\n\n\nSkal du med på turen?\n\nØnsker du at booke et sæde i bussen?Klik på “Bestil her” og gå direkte til vores booking. \n\n\n    Bestil her
URL:https://hafnia-rejser.dk/event/fruens-boege/
CATEGORIES:Aktuelle rejser,Alle rejser,Endagsture,Forside banner
ATTACH;FMTTYPE=image/jpeg:https://hafnia-rejser.dk/wp-content/uploads/Odense-aa-Lotte-scaled.jpg
END:VEVENT
BEGIN:VEVENT
DTSTART;VALUE=DATE:20250221
DTEND;VALUE=DATE:20261126
DTSTAMP:20260421T051028
CREATED:20230301T091039Z
LAST-MODIFIED:20260312T125011Z
UID:8392-1740096000-1795651199@hafnia-rejser.dk
SUMMARY:Shopping i Gekås Ullared
DESCRIPTION:Kom med til\n\nLidt om turen\nSveriges indkøbsmekka nr. 1!\n\n\n\nAfrejsedata:\nPris pr. person\nBestil\n\n\n\n\nTirsdag d. 19. maj\nPris 315\,-\n\n        Bestil her\n    \n\n\nOnsdag d. 12. august\nPris 315\,-\n\n        Bestil her\n    \n\n\nOnsdag d. 25. november\nPris 315\,-\n\n        Bestil her\n    \n\n\n\n\n\n         \nVelkommen skilt\n\n\n         \nFamilie med vogn\n\n\nSådan er programmet\nTuren:\n\nGekås i Ullared – 150 km nord for Helsingborg\, er Skandinaviens største varehus. \nMed over 100.000 forskellige varenumre\, er det et shopping-paradis for alle som elsker at handle smart. \nFra opvaskemiddel\, vaskepulver og kaffe\, over elektronik og interiør\, til stegepander\, sko og tøj. \nHver dag fyldes centret med gode tilbud\, som bare venter på at blive puttet i din indkøbsvogn. \nHer er rigtigt mange penge at spare\, ikke mindst pga. den lave svenske kurs. \nCa. 5 timers ophold i centret. \nMedbring gerne navnemærkater eller andet\, så du kan genkende dine indkøbsposer ved hjemkomst. \nHjemkomst kl. 17:15 – 18:30 \n\n\n57.1353\,12.7119 \n\nAlt det praktiske:\n\nDet får du med i prisen: \n\n\n\nBuskørsel til Ullared tur/retur \n\n\n\nSærlige tillæg: \n\n\n\n\nBemærk: \n\n\nHusk billedlegitimation\n\n\nBussen kører på følgende tidspunkter: \n\n\n\n\nBy:\nTidspunkt:\n\n\n\n\nHolbæk\nkl. 05:30\n\n\nRoskilde\nkl. 06:00\n\n\nNærum\nkl. 06:35\n\n\nHelsingør\nkl. 07:00\n\n\n\nSkal du med på turen?\n\nØnsker du at booke et sæde i bussen?Klik på “Bestil her” og gå direkte til vores booking. \n\n\n        Bestil her
URL:https://hafnia-rejser.dk/event/shopping-i-gekaas-ullared/
CATEGORIES:Aktuelle rejser,Endagsture,Forside banner
ATTACH;FMTTYPE=image/jpeg:https://hafnia-rejser.dk/wp-content/uploads/Logo-Gekaas.jpg
END:VEVENT
END:VCALENDAR