BEGIN:VCALENDAR
VERSION:2.0
PRODID:-//HAFNIA REJSER - ECPv6.15.17.1//NONSGML v1.0//EN
CALSCALE:GREGORIAN
METHOD:PUBLISH
X-WR-CALNAME:HAFNIA REJSER
X-ORIGINAL-URL:https://hafnia-rejser.dk
X-WR-CALDESC:Begivenheder for HAFNIA REJSER
REFRESH-INTERVAL;VALUE=DURATION:PT1H
X-Robots-Tag:noindex
X-PUBLISHED-TTL:PT1H
BEGIN:VTIMEZONE
TZID:Europe/Copenhagen
BEGIN:DAYLIGHT
TZOFFSETFROM:+0100
TZOFFSETTO:+0200
TZNAME:CEST
DTSTART:20210328T010000
END:DAYLIGHT
BEGIN:STANDARD
TZOFFSETFROM:+0200
TZOFFSETTO:+0100
TZNAME:CET
DTSTART:20211031T010000
END:STANDARD
BEGIN:DAYLIGHT
TZOFFSETFROM:+0100
TZOFFSETTO:+0200
TZNAME:CEST
DTSTART:20220327T010000
END:DAYLIGHT
BEGIN:STANDARD
TZOFFSETFROM:+0200
TZOFFSETTO:+0100
TZNAME:CET
DTSTART:20221030T010000
END:STANDARD
BEGIN:DAYLIGHT
TZOFFSETFROM:+0100
TZOFFSETTO:+0200
TZNAME:CEST
DTSTART:20230326T010000
END:DAYLIGHT
BEGIN:STANDARD
TZOFFSETFROM:+0200
TZOFFSETTO:+0100
TZNAME:CET
DTSTART:20231029T010000
END:STANDARD
END:VTIMEZONE
BEGIN:VEVENT
DTSTART;VALUE=DATE:20221207
DTEND;VALUE=DATE:20221208
DTSTAMP:20260422T070712
CREATED:20221219T125422Z
LAST-MODIFIED:20230303T084545Z
UID:2501-1670371200-1670457599@hafnia-rejser.dk
SUMMARY:Vellingeblomman juleby
DESCRIPTION:Kom med til\n\nLidt om turen\nMasser af hyggelig svensk julestemning lige på den anden side af broen.\n\n\n\nAfrejsedata:\nPris pr. person\nBestil\n\n\n\n\nOnsdag d. 07. december\nPris 560\,-\n\n        Bestil her\n    \n\n\n\n\n\n         \nTomtebyn-2018-3-887-89a6e3b7\n\n\n         \nTomtebyn-887-1-be366a99\n\n\nSådan er programmet\nTuren:\n\nSådan er dagen planlagt \n\n\nVia det imponerende bygningsværk\, Øresundsbroen\, når vi vores svenske naboland.Syd for Malmø finder vi Vellingeblomman – en lille oase i landlige omgivelser\, der sælger lokale produkter\, blomster\, stearinlys\, og i denne tid\, julekugler\, nisser og alskens julepynt. I julemåneden huser stedet Nordens længste juleudstilling på 1\,2 km. Nyd de skønne julelandskaber med flittige\, bevægelige nisser\, i gang med juleforberedelserne. I de omkringliggende lokaler\, sælges masser af lækker julepynt og glaskugler i mange farver og udformninger. \nVed ankomst til Vellingeblomman bydes vi på en kop formiddagskaffe med sødt. Dagens ret er også inkluderet\, inden vi kører mod Malmø. \nVi slutter dagen i Sverige med shopping i det elegante og julepyntede indkøbscenter Emporia.Centret er\, med sine ca. 150 butikker\, et af Skandinaviens største shoppingcentre. Den lave svenske kurs giver gode muligheder for billig juleshopping. \nHjemkomst: 17:00-19:30 \n\nAlt det praktiske:\n\nDet får du med i prisen: \n\n\n\n\nFormiddagskaffe \n\n\n\n\nFrokost – Dagens ret \n\n\n\n\nBroafgift \n\n\n\n\nOphold i Vellingeblomman juleby \n\n\n\n\nOphold i Emporia Indkøbscenter \n\n\n\n\nBuskørsel i 4-stjernet turistbus \n\n\n\n\nBemærk: \n\n\n\nHusk billedlegitimation \n\n\n\nBussen kører på følgende tidspunkter: \n\n\n\n\nBy:\nTidspunkt:\n\n\n\n\nHøjby\nkl. 06:30\n\n\nNykøbing Sj.\nkl. 06:40\n\n\nVig\nkl. 06:55\n\n\nAsnæs\nkl. 07:10\n\n\nFårevejle\nkl. 07:20\n\n\nSvinninge\nkl. 07:30\n\n\nHolbæk\nkl. 07:50\n\n\nRoskilde\nkl. 08:20\n\n\nKøbenhavn Sjælør St.\nkl. 09:00\n\n\n\n\n55.45878769999999\,12.992766 \n\nSkal du med på turen?\n\nØnsker du at booke et sæde i bussen?Klik på “Bestil her” og gå direkte til vores booking. \n\n\n    Bestil her
URL:https://hafnia-rejser.dk/event/vellingeblomman-juleby/
CATEGORIES:Alle rejser,JUL OG NYTÅR
ATTACH;FMTTYPE=image/jpeg:https://hafnia-rejser.dk/wp-content/uploads/Tomtebyn-2018-3-887-89a6e3b7.jpeg
END:VEVENT
BEGIN:VEVENT
DTSTART;TZID=Europe/Copenhagen:20221213T080000
DTEND;TZID=Europe/Copenhagen:20221223T170000
DTSTAMP:20260422T070712
CREATED:20221213T133825Z
LAST-MODIFIED:20230303T085925Z
UID:2362-1670918400-1671814800@hafnia-rejser.dk
SUMMARY:DR pigekorets julekoncert
DESCRIPTION:Kom med til\n\nLidt om turen\n\n\n\nStemningsfuld koncert med DR Pigekoret i den smukke Koncertsal. \n\n\n\n\n\n\nAfrejsedata:\nPris pr. person\nBestil\n\n\n\n\nSøndag d. 11. december\nPris 875\,-\n\n        Bestil her\n    \n\n\n\n\n\n         \n3b4e90951db4471a6b7bbfccf7ab5ab2-6a0d08ea\n\n\n         \n124039667-cf584f5d\n\n\n         \nDR-Koncerthuset-2-38c166fe\n\n\n         \nDR-SymfoniOrkestret-3_Per-Morten-Abrahamsen-2-33edec21\n\n\n         \nPigekoret-i-julepyntet-koncertsal-2a41d815\n\n\n         \nshutterstock_370576868-c552fec7\n\n\nSådan er programmet\nAktiviteterne på de enkelte dage er planlagt på følgende måde:\nTuren:\n\nHer er programmet for dagen \n\n\nI over 80 år har DR Pigekoret været en del af danskernes lydbillede. Den røde tråd i korets virke er den danske sang i alle dens afskygninger\, og pigerne bevæger sig frit mellem Grundtvigs salmer\, moderne værker\, kendte popsange og fællessang. \nJulen er en særlig tid\, hvor de elskede danske julesange og -salmer\, skaber rammen om ritualer\, følelser og minder. \nDR Pigekoret og Phillip Faber inviterer indenfor i en smuk og julepyntet Koncertsal\, til en medrivende musikalsk fortælling\, flettet sammen af både velkendte og nye julesange og -værker. \nPå hjemturen serveres en sandwich og øl/vand i bussen. \nTerrasse G \nHjemkomst ca. kl. 15:30-17:15 \n\nAlt det praktiske:\n\nDet får du med i prisen: \n\n\n\n\nKoncertbillet på Terrasse G \n\n\n\n\nSandwich inkl. en øl/vand \n\n\n\n\nBuskørsel i 4-stjernet turistbus \n\n\n\n\nBemærk: \n\n\n\nVi anbefaler tidlig bestilling. \n\n\n\nBussen kører på følgende tidspunkter: \n\n\n\n\nBy:\nTidspunkt:\n\n\n\n\nHøjby\nkl. 09:30\n\n\nNykøbing Sj.\nkl. 09:40\n\n\nVig st. \nkl. 09:55\n\n\nAsnæs\nkl. 10:10\n\n\nFårevejle\nkl. 10:20\n\n\nSvenninge\nkl. 10:30\n\n\nHolbæk\nkl. 10:50\n\n\nRoskilde\nkl. 11:20\n\n\n\nSkal du med på turen?\n\nØnsker du at booke et sæde i bussen?Klik på “Bestil her” og gå direkte til vores booking. \n\n\n    Bestil her
URL:https://hafnia-rejser.dk/event/dr-pigekorets-julekoncert/
CATEGORIES:Alle rejser,Content billede forside,Forside banner,JUL OG NYTÅR
ATTACH;FMTTYPE=image/jpeg:https://hafnia-rejser.dk/wp-content/uploads/Pigekoret-i-julepyntet-koncertsal-2a41d815-1.jpeg
END:VEVENT
END:VCALENDAR