BEGIN:VCALENDAR
VERSION:2.0
PRODID:-//HAFNIA REJSER - ECPv6.15.17.1//NONSGML v1.0//EN
CALSCALE:GREGORIAN
METHOD:PUBLISH
X-WR-CALNAME:HAFNIA REJSER
X-ORIGINAL-URL:https://hafnia-rejser.dk
X-WR-CALDESC:Begivenheder for HAFNIA REJSER
REFRESH-INTERVAL;VALUE=DURATION:PT1H
X-Robots-Tag:noindex
X-PUBLISHED-TTL:PT1H
BEGIN:VTIMEZONE
TZID:Europe/Copenhagen
BEGIN:DAYLIGHT
TZOFFSETFROM:+0100
TZOFFSETTO:+0200
TZNAME:CEST
DTSTART:20230326T010000
END:DAYLIGHT
BEGIN:STANDARD
TZOFFSETFROM:+0200
TZOFFSETTO:+0100
TZNAME:CET
DTSTART:20231029T010000
END:STANDARD
BEGIN:DAYLIGHT
TZOFFSETFROM:+0100
TZOFFSETTO:+0200
TZNAME:CEST
DTSTART:20240331T010000
END:DAYLIGHT
BEGIN:STANDARD
TZOFFSETFROM:+0200
TZOFFSETTO:+0100
TZNAME:CET
DTSTART:20241027T010000
END:STANDARD
BEGIN:DAYLIGHT
TZOFFSETFROM:+0100
TZOFFSETTO:+0200
TZNAME:CEST
DTSTART:20250330T010000
END:DAYLIGHT
BEGIN:STANDARD
TZOFFSETFROM:+0200
TZOFFSETTO:+0100
TZNAME:CET
DTSTART:20251026T010000
END:STANDARD
END:VTIMEZONE
BEGIN:VEVENT
DTSTART;VALUE=DATE:20240924
DTEND;VALUE=DATE:20241201
DTSTAMP:20260422T040649
CREATED:20230301T135521Z
LAST-MODIFIED:20241030T094603Z
UID:2497-1727136000-1733011199@hafnia-rejser.dk
SUMMARY:Historisk julemarked i Lund
DESCRIPTION:Kom med til\n\nLidt om turen\nFrilandsmuseet Kulturen emmer af julestemning med gadeteater\, hestevogne\, juleboder\, musik og sangkor.\n\n\n\nAfrejsedata:\nPris pr. person\nBestil\n\n\n\n\nLørdag d. 30. november\nPris 585\,-\n\n        Bestil her\n    \n\n\n\n\n\n         \nJulmarknad-Foto-Viveca-Ohlsson-Kulturen_WEB_1-714e0d35\n\n\n         \nJulmarknad-Foto-Viveca-Ohlsson-Kulturen_WEB_2-aae4ce6c\n\n\n         \n603f45e31aba8ef47fef4b559e3e1747-1775fa4f\n\n\n         \nfc53ca15f68dd02e1ed5f14c480580b7-ab844a7f\n\n\n         \n391daea9a606db2a7ad0ba88133c2cfe-c5a1d41c\n\n\n         \n5e2b60dc6aa98a8b20c11e37dc9fcae3-1004aacf\n\n\n         \n5c9e5976e022a37eca251e03a868d3ca-e967d821\n\n\n\n\nFotokreditering: Anders Andersson\, Viveca Ohlsson og Nelly Hercberg. \n\n\nSådan er programmet\nTuren:\n\nSådan er dagen planlagt \n\n\nKulturen\, der ligger som en oase midt i Lund\, er et af verdens ældste frilandsmuseer og huser over 30 originale bygninger fra 1600-tallet og frem. \nHer kan man følge juletraditionerne gennem tiden\, og der bydes indenfor til hygge\, udstillinger\, salgsboder\, markedsgade og julemusik. \nDen charmerende universitetsby er en af Sveriges ældste\, og har tætte bånd til Danmark. I dag er Lund en hyggelig by med den smukke domkirke i centrum\, og den lave svenske kurs giver gode muligheder for handel. \nUd- og hjemrejse via Øresundsbroen\, forbi Malmø til Lund. \nHjemkomst: 17:00-19:20 \nHent PDF til print \n\nAlt det praktiske:\n\nDet får du med i prisen: \n\n\n\n\nEntre i Frilandsmuseet Kulturen \n\n\n\n\nBuskørsel i 4-stjernet turistbus \n\n\n\n\nBemærk: \n\n\n\nHusk billedlegitimation. \n\n\n\nBussen kører på følgende tidspunkter: \n\n\n\n\nBy:\nTidspunkt:\n\n\n\n\nHøjby\nkl. 08:10\n\n\nNykøbing Sj.\nkl. 08:20\n\n\nVig\nkl. 08:35\n\n\nAsnæs\nkl. 08:50\n\n\nFårevejle\nkl. 09:00\n\n\nSvinninge\nkl. 09:10\n\n\nHolbæk\nkl. 09:30\n\n\nRoskilde\nkl. 10:00\n\n\nKøbenhavn Valby St.\nkl. 10:30\n\n\n\n\n55.7046601\,13.1910073 \n\nSkal du med på turen?\n\nØnsker du at booke et sæde i bussen?Klik på “Bestil her” og gå direkte til vores booking. \n\n\n    Bestil her
URL:https://hafnia-rejser.dk/event/julemarked-i-lund/
CATEGORIES:Aktuelle rejser,Endagsture,Forside banner,JUL OG NYTÅR
ATTACH;FMTTYPE=image/jpeg:https://hafnia-rejser.dk/wp-content/uploads/5c9e5976e022a37eca251e03a868d3ca-e967d821.jpeg
END:VEVENT
END:VCALENDAR