BEGIN:VCALENDAR
VERSION:2.0
PRODID:-//HAFNIA REJSER - ECPv6.15.17.1//NONSGML v1.0//EN
CALSCALE:GREGORIAN
METHOD:PUBLISH
X-ORIGINAL-URL:https://hafnia-rejser.dk
X-WR-CALDESC:Begivenheder for HAFNIA REJSER
REFRESH-INTERVAL;VALUE=DURATION:PT1H
X-Robots-Tag:noindex
X-PUBLISHED-TTL:PT1H
BEGIN:VTIMEZONE
TZID:Europe/Copenhagen
BEGIN:DAYLIGHT
TZOFFSETFROM:+0100
TZOFFSETTO:+0200
TZNAME:CEST
DTSTART:20240331T010000
END:DAYLIGHT
BEGIN:STANDARD
TZOFFSETFROM:+0200
TZOFFSETTO:+0100
TZNAME:CET
DTSTART:20241027T010000
END:STANDARD
BEGIN:DAYLIGHT
TZOFFSETFROM:+0100
TZOFFSETTO:+0200
TZNAME:CEST
DTSTART:20250330T010000
END:DAYLIGHT
BEGIN:STANDARD
TZOFFSETFROM:+0200
TZOFFSETTO:+0100
TZNAME:CET
DTSTART:20251026T010000
END:STANDARD
BEGIN:DAYLIGHT
TZOFFSETFROM:+0100
TZOFFSETTO:+0200
TZNAME:CEST
DTSTART:20260329T010000
END:DAYLIGHT
BEGIN:STANDARD
TZOFFSETFROM:+0200
TZOFFSETTO:+0100
TZNAME:CET
DTSTART:20261025T010000
END:STANDARD
END:VTIMEZONE
BEGIN:VEVENT
DTSTART;VALUE=DATE:20251203
DTEND;VALUE=DATE:20251204
DTSTAMP:20260422T181406
CREATED:20230301T090022Z
LAST-MODIFIED:20251117T123127Z
UID:2500-1764720000-1764806399@hafnia-rejser.dk
SUMMARY:Jul i Lübeck
DESCRIPTION:Kom med til\n\nLidt om turen\nSanserne bliver bombarderet med juleindtryk fra de mange boder i Lübecks julesceneri.\n\nLige fra den smukkeste julepynt i træboderne\, til de store dekorerede honninghjerter på snor og den dejlige varme Glühwein. Et af Nordtysklands mest kendte julemarkeder\, som har bragt juleglæde til folk i flere hundrede år. \n\n\n\n\nAfrejsedata:\nPris pr. person\nBestil\n\n\n\n\nOnsdag d. 03. december\nPris 495\,-\n\n        Bestil her\n    \n\n\n\n\n\n         \njulehjerter-f2735939\n\n\n         \nsugar-3247492_640-fra-Pixabay-2bb12097\n\n\n         \nlubeck-4087926_640-fra-Pixabay-fcd98afa\n\n\n         \nlubeck-2667976_640-fra-Pixabay-670b9089\n\n\nSådan er programmet\nTuren:\n\nSådan er dagen planlagt \n\n\nAt besøge Lübeck i julemåneden er som at gå rundt i et levende juleeventyr\, krydret med duften af gran\, brændte mandler og lun Glühwein.Området omkring Rådhuset er omdannet til et rigtigt hyggeligt julemarked\, hvor der\, både i boderne og i de omkringliggende butikker\, kan gøres mange gode indkøb. \nVi sejler med Scandlines via Rødby-Puttgarden til den gamle Hansestad Lübeck – byen som er på UNESCOs liste over ”Verdenskulturværdier”. Lübeck er en by med mange seværdigheder; Holstentor\, Marien-Kirche\, Domkirken\, Heiligen Geist-hospitalet\, Buddenbrook-huset\, Rådhuset og meget mere.Ingen jul uden marcipan – byen er kendt for sin lækre marcipan\, så husk at besøge Niederegger Marcipan hus. \nTag bare et ekstra krus Glühwein – vores chauffør kører jer sikkert frem og tilbage! \nDer er ca. 3½ timers ophold inden returkørsel. Ophold ved grænsebutik på ud- eller hjemrejsen. \nHjemkomst: kl. 20:15 – 21:00 \n\nAlt det praktiske:\n\nDet får du med i prisen: \n\n\nKørsel i 4-stjernet turistbus\n\n\nBemærk: \n\n\n\n\nHusk pas! \n\n\n\n\nValuta: Euro \n\n\n\n\nBussen kører på følgende tidspunkter: \n\n\n\n\nBy:\nTidspunkt:\n\n\n\n\nHolbæk\nkl. 06:30\n\n\nRingsted\nkl. 07:20\n\n\n\n\n53.8654673\,10.6865593 \n\nSkal du med på turen?\n\nØnsker du at booke et sæde i bussen?Klik på “Bestil her” og gå direkte til vores booking. \n\n\n    Bestil her
URL:https://hafnia-rejser.dk/event/jul-i-lubeck/
CATEGORIES:Aktuelle rejser,Alle rejser,Endagsture,Forside banner,JUL OG NYTÅR
ATTACH;FMTTYPE=image/jpeg:https://hafnia-rejser.dk/wp-content/uploads/Julebod-Celle.jpg
END:VEVENT
END:VCALENDAR