BEGIN:VCALENDAR
VERSION:2.0
PRODID:-//HAFNIA REJSER - ECPv6.15.17.1//NONSGML v1.0//EN
CALSCALE:GREGORIAN
METHOD:PUBLISH
X-WR-CALNAME:HAFNIA REJSER
X-ORIGINAL-URL:https://hafnia-rejser.dk
X-WR-CALDESC:Begivenheder for HAFNIA REJSER
REFRESH-INTERVAL;VALUE=DURATION:PT1H
X-Robots-Tag:noindex
X-PUBLISHED-TTL:PT1H
BEGIN:VTIMEZONE
TZID:Europe/Copenhagen
BEGIN:DAYLIGHT
TZOFFSETFROM:+0100
TZOFFSETTO:+0200
TZNAME:CEST
DTSTART:20200329T010000
END:DAYLIGHT
BEGIN:STANDARD
TZOFFSETFROM:+0200
TZOFFSETTO:+0100
TZNAME:CET
DTSTART:20201025T010000
END:STANDARD
BEGIN:DAYLIGHT
TZOFFSETFROM:+0100
TZOFFSETTO:+0200
TZNAME:CEST
DTSTART:20210328T010000
END:DAYLIGHT
BEGIN:STANDARD
TZOFFSETFROM:+0200
TZOFFSETTO:+0100
TZNAME:CET
DTSTART:20211031T010000
END:STANDARD
BEGIN:DAYLIGHT
TZOFFSETFROM:+0100
TZOFFSETTO:+0200
TZNAME:CEST
DTSTART:20220327T010000
END:DAYLIGHT
BEGIN:STANDARD
TZOFFSETFROM:+0200
TZOFFSETTO:+0100
TZNAME:CET
DTSTART:20221030T010000
END:STANDARD
END:VTIMEZONE
BEGIN:VEVENT
DTSTART;TZID=Europe/Copenhagen:20210812T000000
DTEND;TZID=Europe/Copenhagen:20210815T000000
DTSTAMP:20260424T220134
CREATED:20221219T125623Z
LAST-MODIFIED:20230303T084836Z
UID:2504-1628726400-1628985600@hafnia-rejser.dk
SUMMARY:Skagen
DESCRIPTION:Kom med til\n\nLidt om turen\nTangtage på Læsø\, smukke gule huse i malernes Skagen og sand mellem tæerne på Råbjerg Mile.\n\nRejs med til Nordjylland\, med ophold på det flotte Hotel Jutlandia i Frederikshavn og udflugter til Skagen og Læsø. Aftensmaden nydes hver aften i hotellets restaurant på 6. sal. \nAntal dage: 4 dageHotel: Hotel Jutlandia \n\n\n\n\nAfrejsedata:\nPris pr. person\nBestil\n\n\n\n\nTorsdag d. 12. august\nPris 4.325\,-\n\n        Bestil her\n    \n\n\n\n\n\n         \nSkagen-Kirke-507134cb\n\n\n         \nSkagen-aflangt-hus-8c1b7902\n\n\n         \nSandormen-74901ac8\n\n\n         \nfyldte-saltkurve-over-pander-3-8bc2a231\n\n\n         \nHotel-JUTLANDIA-beliggenhed-ved-Frederikshavn-Havn-den-18-06-15-2-2-2410fa99\n\n\n         \nhus-gl-skagen-1-325ce1ee\n\n\n         \nc85935d7f7d17340d1c82dd038d7088a-2f496fe8\n\n\n         \n2015-Hotel-JUTLANDIA-11-07-15-set-fra-Kattegatsiloen-87fcbd99\n\n\n         \nbe5ea719abcac4cef2b15475e49fb5b5-68db51d1\n\n\n         \n6a2cdfe76d880a6aebbe6fcad2e5e2d0-714be2ac\n\n\nSådan er programmet\nAktiviteterne på de enkelte dage er planlagt på følgende måde:\n1 dag:\n\nHvidsten Kro \n\n\nOpsamling på Sjælland\, og via Storebæltsbroen til Fyn og Jylland. Op gennem Jylland til en god frokost på Hvidsten kro. Derefter langs Mariager Fjord – gennem Rold Skov til Ålborg\, og snart er vi fremme i Frederikshavn. Vores hotel for de næste tre nætter er Classic Hotel Jutlandia\, som ligger i centrum. Hotellet har restaurant\, bar og alle værelser er med telefon\, tv\, hårtørrer samt toilet og badekar. Desuden er der adgang til gratis internet og kaffe/the på værelserne. Aftensmad på hotellet. \n\n\n2 dag: \n\nSkagen og Råbjerg Mile \n\n\nMorgenbuffet på hotellet. I dag går turen nordpå\, til Skagen. Vi tager en tur ud til Grenen med Sandormen\, til Danmarks nordligste punkt\, hvor Skagerrak og Kattegat mødes. Derefter tid på egen hånd til at se nærmere på Skagen – med den store fiskerihavn\, de smalle stræder\, de skønne ejendomme\, de kendte museer for de berømte kunstnere m.m. På vej tilbage til hotellet besøger vi Råbjerg Mile – Danmarks største vandreklit. Aftensmad på hotellet. \n\n\n3 dag: \n\nLæsø \n\n\nMorgenbuffet på hotellet. Efter morgenmaden går turen til færgehavnen\, hvorfra vi sejler til Læsø. Læsø er en fantastisk ø – 2/3 af øen er uopdyrket\, norddelen har store lyng- og skovarealer\, syddelen har det åbne landskab. Se øens gamle huse med tangtage\, Læsø saltsyderi og mange andre spændende ting. Guidet rundtur inkl. frokost. Derefter retur til Frederikshavn. Aftensmad på hotellet. \n\n\n4 dag:\n\nHimmelbjerget \n\n\nMorgenbuffet på hotellet. Derefter begynder vi hjemturen. Turen går via Aalborg og Silkeborg til Himmelbjerget\, hvor vi gør ophold. Her spiser vi en god frokost på Hotel Himmelbjerget\, der ligger med søer og skov lige udenfor vinduerne. Hjemturen fortsætter via Horsens\, Vejle og Lillebælt til Fyn\, over Storebælt og tilbage til Sjælland. \nHjemkomst kl. 18:00-19:00. \nTure til de danske små-øer er populære. Du kan også tage med Hafnia Rejser til Ærø\, Hven\, Sejerø og Samsø. \n\nAlt det praktiske:\n\nDet får du med i prisen: \n\n\n\n\n3 x overnatning i dobbeltværelse \n\n\n\n\n3 x morgenmad \n\n\n\n\n3 x aftensmåltid\, middag eller buffet \n\n\n\n\nFrokost på Hvidsten Kro \n\n\n\n\nUdflugt til Grenen med Sandormen \n\n\n\n\nHeldagstur til Læsø inkl. frokost \n\n\n\n\nOphold ved Himmelbjerget \n\n\n\n\nFrokost på Hotel Himmelbjerget \n\n\n\n\n4-stjernet turistbus \n\n\n\nRejseleder\n\n\n\nSærlige tillæg: \n\n\n\n\nTillæg eneværelse: 900\,- \n\n\n\n\nAfbestillingsforsikring: 260\,- \n\n\n\n\nBemærk: \n\n\n\nÆndringer i rækkefølgen af udflugter kan forekomme. \n\n\n\nBussen kører på følgende tidspunkter: \n\n\n\n\nBy:\nTidspunkt:\n\n\n\n\nHøjby\nkl. 07:35\n\n\nSvinninge\nkl. 07:55\n\n\nMørkøv\nkl. 08:10\n\n\nJyderup\nkl. 08:25\n\n\nKalundborg\nkl. 08:45\n\n\nKorsør\nkl. 09:30\n\n\nRoskilde\nkl. 07:25\n\n\nTaastrup\nkl. 07:45\n\n\nKøbenhavn\nkl. 08:05\n\n\nHolbæk\nkl. 08:15\n\n\nØlby\nkl. 08:35\n\n\nRingsted\nkl. 09:00\n\n\n\n\n57.442711\,10.521006 \n\nSkal du med på turen?\n\nØnsker du at booke et sæde i bussen?Klik på “Bestil her” og gå direkte til vores booking. \n\n\n    Bestil her
URL:https://hafnia-rejser.dk/event/skagen/
CATEGORIES:Alle rejser,GRUPPEREJSER
ATTACH;FMTTYPE=image/jpeg:https://hafnia-rejser.dk/wp-content/uploads/Sandormen-74901ac8.jpeg
END:VEVENT
BEGIN:VEVENT
DTSTART;TZID=Europe/Copenhagen:20210812T000000
DTEND;TZID=Europe/Copenhagen:20210815T000000
DTSTAMP:20260424T220134
CREATED:20221219T130759Z
LAST-MODIFIED:20230303T084823Z
UID:2546-1628726400-1628985600@hafnia-rejser.dk
SUMMARY:SKAGEN OG LÆSØ
DESCRIPTION:Kom med til\n\nLidt om turen\nTangtage på Læsø\, smukke gule huse i malernes Skagen og sand mellem tæerne på Råbjerg Mile.\n\nRejs med til Nordjylland\, med ophold på det flotte Hotel Jutlandia i Frederikshavn og udflugter til Skagen og Læsø. Aftensmaden nydes hver aften i hotellets restaurant på 6. sal. \nAntal dage: 4 dageHotel: Hotel Jutlandia \n\n\n\n\nAfrejsedata:\nPris pr. person\nBestil\n\n\n\n\nTorsdag d. 12. august	\nPris 4.325\,-\n\n        Bestil her\n    \n\n\n\n\n\n         \nFishing boats on land at Thorup beach on the Danish North Sea coast\n\n\n         \nBunker-kyst-9aab4c7d\n\n\n         \nFjordenhus-lyst-d5b94c66\n\n\nSådan er programmet\nAktiviteterne på de enkelte dage er planlagt på følgende måde:\n1 dag:\n\nHvidsten Kro \n\n\nOpsamling på Sjælland\, og via Storebæltsbroen til Fyn og Jylland. Op gennem Jylland til en god frokost på Hvidsten kro. Derefter langs Mariager Fjord – gennem Rold Skov til Ålborg\, og snart er vi fremme i Frederikshavn. Vores hotel for de næste tre nætter er Classic Hotel Jutlandia\, som ligger i centrum.  \nHotellet har restaurant\, bar og alle værelser er med telefon\, tv\, hårtørrer samt toilet og badekar. Desuden er der adgang til gratis internet og kaffe/the på værelserne. Aftensmad på hotellet. \n\n\n2 dag: \n\nSkagen og Råbjerg Mile \n\n\nMorgenbuffet på hotellet. I dag går turen nordpå\, til Skagen. Vi tager en tur ud til Grenen med Sandormen\, til Danmarks nordligste punkt\, hvor Skagerrak og Kattegat mødes.  \nDerefter tid på egen hånd til at se nærmere på Skagen – med den store fiskerihavn\, de smalle stræder\, de skønne ejendomme\, de kendte museer for de berømte kunstnere m.m. På vej tilbage til hotellet besøger vi Råbjerg Mile – Danmarks største vandreklit. Aftensmad på hotellet. \n\n\n3 dag: \n\nLæsø \n\n\nMorgenbuffet på hotellet. Efter morgenmaden går turen til færgehavnen\, hvorfra vi sejler til Læsø. Læsø er en fantastisk ø – 2/3 af øen er uopdyrket\, norddelen har store lyng- og skovarealer\, syddelen har det åbne landskab. Se øens gamle huse med tangtage\, Læsø saltsyderi og mange andre spændende ting. Guidet rundtur inkl. frokost. Derefter retur til Frederikshavn. Aftensmad på hotellet. \n\n\n4 dag:\n\nHimmelbjerget \n\n\nMorgenbuffet på hotellet. Derefter begynder vi hjemturen. Turen går via Aalborg og Silkeborg til Himmelbjerget\, hvor vi gør ophold. Her spiser vi en god frokost på Hotel Himmelbjerget\, der ligger med søer og skov lige udenfor vinduerne. Hjemturen fortsætter via Horsens\, Vejle og Lillebælt til Fyn\, over Storebælt og tilbage til Sjælland. \nHjemkomst kl. 18:00-19:00. \nTure til de danske små-øer er populære. Du kan også tage med Hafnia Rejser til Ærø\, Hven\, Sejerø og Samsø. \n\nAlt det praktiske:\n\nDet får du med i prisen: \n\n\n\n\n3 x overnatning i dobbeltværelse \n\n\n\n\n3 x morgenmad \n\n\n\n\n3 x aftensmåltid\, middag eller buffet \n\n\n\n\nFrokost på Hvidsten Kro \n\n\n\n\nUdflugt til Grenen med Sandormen \n\n\n\n\nHeldagstur til Læsø inkl. frokost \n\n\n\n\nOphold ved Himmelbjerget \n\n\n\n\nFrokost på Hotel Himmelbjerget \n\n\n\n\n4-stjernet turistbus \n\n\n\nRejseleder\n\n\n\nSærlige tillæg: \n\n\n\n\nTillæg eneværelse: 900\,- \n\n\n\n\nAfbestillingsforsikring: 260\,- \n\n\n\n\nBussen kører på følgende tidspunkter: \n\n\n\n\nBy:\nTidspunkt:\n\n\n\n\nRoskilde\nkl. 07:25\n\n\nHolbæk\nkl. 07:35\n\n\nTaastrup\nkl. 07:45\n\n\nSvinninge\nkl. 07:55\n\n\nKøbenhavn\nkl. 08:05\n\n\nMørkøv\nkl. 08:10\n\n\nJyderup\nkl. 08:25\n\n\nØlby\nkl. 08:35\n\n\nKalundborg\nkl. 08:45\n\n\nRingsted\nkl. 09:00\n\n\nKorsør\nkl. 09:30\n\n\n\nSkal du med på turen?\n\nØnsker du at booke et sæde i bussen?Klik på “Bestil her” og gå direkte til vores booking. \n\n\n    Bestil her
URL:https://hafnia-rejser.dk/event/skagen-og-laesoe/
CATEGORIES:Alle rejser
ATTACH;FMTTYPE=image/jpeg:https://hafnia-rejser.dk/wp-content/uploads/Fjordenhus-lyst-d5b94c66.jpeg
END:VEVENT
BEGIN:VEVENT
DTSTART;VALUE=DATE:20210826
DTEND;VALUE=DATE:20210827
DTSTAMP:20260424T220134
CREATED:20221219T130759Z
LAST-MODIFIED:20230303T084847Z
UID:2544-1629936000-1630022399@hafnia-rejser.dk
SUMMARY:SEJERØ
DESCRIPTION:Kom med til\n\nLidt om turen\n\nMed en uspoleret natur og højt til himlen\, finder vi Sejerø i den syd vestligste del af Kattegat. Guidet tur med øbo og frokost på den lille ø \n\n\n\n\nAfrejsedata:\nPris pr. person\nBestil\n\n\n\n\nTorsdag d. 26. august	\nPris 695\,-\n\n        Bestil her\n    \n\n\n\n\n\n         \nFishing boats on land at Thorup beach on the Danish North Sea coast\n\n\n         \nBunker-kyst-9aab4c7d\n\n\n         \nFjordenhus-lyst-d5b94c66\n\n\nSådan er programmet\nTuren:\n\nSådan er dagen planlagt \n\n\nGadekær med åkander og ænder\, stendysser og hyggeligt havnemiljø\, kendetegner den lille ø med bare 350 beboere\, 12 km i længden og 2\,5 km på det bredeste sted. \nI bus kører vi til Havnsø\, beliggende i den sydlige del af Nekseløbugten. Det lille fiskerleje er i dag en hyggelig by med lystbådehavn og færgeforbindelse til småøerne Sejerø og Nekselø. Vi stævner ud fra Havnsø\, med kig til den lille ø Nekselø.Sejlturen tager ca. en time og på havnen i Sejerby møder vi vores lokalguide\, som er bosiddende på Sejerø. Han viser rundt på øen og fortæller om livet på øen før og nu\, bl.a. om de udfordringer der historisk set har været som øbo på Sejerø. Turen begynder med besøg i Købmandshandelsmuseet og kulturhuset\, hvor Anna og Aksel havde købmandshandel gennem mange år. Både butikken og deres hjem står i dag hen som et lille museum. Herefter besøges den gotiske kirke\, hvor vores guide fortæller mere om livet som øbo. Vi runder øens tre byer\, ser oldtidsminderne og det kuperede landskab\, og får undervejs frokost på Café Mini. Retur til Havnsø med færgen. \nHjemkomst kl. 16:45-18:30. \nTure til de danske små-øer er populære. Du kan også tage med Hafnia Rejser til Ærø\, Sprogø\, Agersø\, Hven\, Læsø og Samsø. \n\nAlt det praktiske:\n\nDet får du med i prisen: \n\n\n\n\nLokalguide på Sejerø \n\n\n\n\nFrokost \n\n\n\n\nFærgeoverfart Havnsø-Sejerø t/r \n\n\n\n\nBuskørsel i 4-stjernet turistbus \n\n\n\n\nBemærk: \n\n\n\nÆndringer i rækkefølgen af udflugter kan forekomme. \n\n\n\nBussen kører på følgende tidspunkter: \n\n\n\n\nBy:\nTidspunkt:\n\n\n\n\nSjælør St. \nkl. 07:25\n\n\nGlostrup\nkl. 07:50\n\n\nTaastrup\nkl. 08:05\n\n\nRoskilde\nkl. 08:20\n\n\nHolbæk\nkl. 08:50\n\n\nSvinninge St.\nkl. 09:10\n\n\n\nSkal du med på turen?\n\nØnsker du at booke et sæde i bussen?Klik på “Bestil her” og gå direkte til vores booking. \n\n\n    Bestil her
URL:https://hafnia-rejser.dk/event/sejeroe/
CATEGORIES:Alle rejser
ATTACH;FMTTYPE=image/jpeg:https://hafnia-rejser.dk/wp-content/uploads/Thorupstrand-f1f7c337.jpeg
END:VEVENT
END:VCALENDAR