BEGIN:VCALENDAR
VERSION:2.0
PRODID:-//HAFNIA REJSER - ECPv6.15.17.1//NONSGML v1.0//EN
CALSCALE:GREGORIAN
METHOD:PUBLISH
X-ORIGINAL-URL:https://hafnia-rejser.dk
X-WR-CALDESC:Begivenheder for HAFNIA REJSER
REFRESH-INTERVAL;VALUE=DURATION:PT1H
X-Robots-Tag:noindex
X-PUBLISHED-TTL:PT1H
BEGIN:VTIMEZONE
TZID:Europe/Copenhagen
BEGIN:DAYLIGHT
TZOFFSETFROM:+0100
TZOFFSETTO:+0200
TZNAME:CEST
DTSTART:20210328T010000
END:DAYLIGHT
BEGIN:STANDARD
TZOFFSETFROM:+0200
TZOFFSETTO:+0100
TZNAME:CET
DTSTART:20211031T010000
END:STANDARD
BEGIN:DAYLIGHT
TZOFFSETFROM:+0100
TZOFFSETTO:+0200
TZNAME:CEST
DTSTART:20220327T010000
END:DAYLIGHT
BEGIN:STANDARD
TZOFFSETFROM:+0200
TZOFFSETTO:+0100
TZNAME:CET
DTSTART:20221030T010000
END:STANDARD
BEGIN:DAYLIGHT
TZOFFSETFROM:+0100
TZOFFSETTO:+0200
TZNAME:CEST
DTSTART:20230326T010000
END:DAYLIGHT
BEGIN:STANDARD
TZOFFSETFROM:+0200
TZOFFSETTO:+0100
TZNAME:CET
DTSTART:20231029T010000
END:STANDARD
END:VTIMEZONE
BEGIN:VEVENT
DTSTART;TZID=Europe/Copenhagen:20220730T000000
DTEND;TZID=Europe/Copenhagen:20220804T000000
DTSTAMP:20260425T041305
CREATED:20221219T125020Z
LAST-MODIFIED:20230303T084944Z
UID:2492-1659139200-1659571200@hafnia-rejser.dk
SUMMARY:Norge i en nøddeskal
DESCRIPTION:Kom med til\n\nLidt om turen\nUnikke fjordlandskaber\, storslåede udsigter og maritimt miljø ved den gamle havn i Bergen. Afslappende sejlads fra Bergen til Hirtshals\, helt tæt på kysten\, de idylliske klippeskær og røde/gule træhuse.\n\nAntal dage: 6 dage \n\n\n\n\nAfrejsedata:\nPris pr. person\nBestil\n\n\n\n\nLørdag d. 30. juli\nPris 7.695\,-\n\n        Bestil her\n    \n\n\n\n\n\n         \nskib-fra-Fjordline-69af3ae1\n\n\n         \nUtsikt1-Stalheim-fc35e9c8\n\n\n         \nLunsj-Utsikt-Stalheim-9d314c5e\n\n\n         \nRetur-fra-Bergen-sept.-16-komprimeret-887-095a7bed\n\n\n         \nInterior-Utsikt-Stalheim-dd933cc6\n\n\n         \nGjesterom-316-ac041417\n\n\n         \nCoffeeontheterrace-cfc67812\n\n\n         \nFjordline-solopgang-sept.-16-2-887-f981cdd2\n\n\n\n\nFotokreditering: Skib udefra – Fjordline \n\n\nSådan er programmet\nAktiviteterne på de enkelte dage er planlagt på følgende måde:\n1 dag:\n\nVia Sveriges vestkyst til Oslo \n\n\nVia færgeoverfart Helsingør – Helsingborg\, når vi vores svenske naboland.Herfra går turen op langs den svenske vestkyst\, forbi Gøteborg\, og med passende pauser undervejs\, krydser vi grænsen til Norge ved Svinesund. \nSidst på eftermiddagen kommer vi til Norges hovedstad Oslo. Her indlogeres vi på Scandic Hotel Solli Oslo\, beliggende centralt i byen. I gåafstand finder vi det populære område Aker Brygge og Kongeslottet\, samt byens hovedstrøg\, Karl Johans Gate. Om aftenen spiser vi fælles middag på hotellet. \n\n\n2 dag: \n\nMod Vestnorges fjordlandskab \n\n\nInden vi forlader Oslo\, besøger vi Vigelandsparken\, hvor Gustav Vigelands mange berømte skulpturer\, udformet i granit\, bronze og smedejern\, står udstillet rundt om i landskabet.Her vil rejselederen fortælle lidt om de mest kendte værker\, Monolitten\, Livshjulet og fontænen\, der alle skildrer livets forskellige faser og udvikling. \nDerefter sætter vi kurs mod den skovklædte Hallingdal og frokostpause i byen Ål. Turen går nu mod pasovergangen mellem Øst- og Vestnorge. Vi skærer os igennem Hallingskarvet Nationalpark\, som ligger i den nordlige ende af Hardangervidda. På denne tur fornemmer man rigtigt\, hvordan landskabet udvikler sig fra skovklædte dalstrøg til det barske højfjeld\, med smeltevandssøer\, vilde klippepartier og bjergtinder\, der rækker mod himlen. Denne øde bjergverden slutter brat\, når vejen atter fører os ned mod de vestnorske fjorde. Gennem de mange hårnålesving får vi en fantastisk udsigt ned over Aurlandsdalen. \nNår vi er forbi byen Flåm og igennem et par lange tunneller\, er vi snart fremme ved vores næste mål. \nMed fabelagtig udsigt over dalen\, ikke langt fra Sognefjorden og Nærøyfjorden\, ligger vores hotel for de næste to nætter. Det historiske Stalheim Hotel har restaurant og lounge-område med panoramaudsigt\, elevator og alle værelser er med bad og toilet. Hotellet er indrettet med en omfattende udstilling af antikviteter\, og mange malere og digtere har gennem tiden ladet sig inspirere af det dramatiske\, men samtidig harmoniske\, landskab som omgiver hotellet. Middag på hotellet. \n\n\n3 dag:\n\nTogrejse og fjordkrydstogt \n\n\nEfter morgenmaden går turen ned gennem Nærøydalen over til Flåm station. \nMed Flåms-banen begiver vi os ud på en af verdens mest spektakulære togrejser\, og oplever en sand opvisning i norsk ingeniørkunst inden for jernbane byggeri. Toget kører os ind igennem den smukke Flåmsdal og bestiger bjergene med hårnålesving\, langs klippeafsatser og vandfald\, og helt op på højfjeldet\, hvor is og sne kan ses hele året.Efter et lille ophold i Myrdal\, kører toget retur til Flåm\, så det man ikke så på vejen op\, ser man på vejen ned. \nI den livlige havneby Flåm har vi et par timers ophold\, med mulighed for\, på egen hånd\, at forsyne sig med lidt frokost\, inden dagens eventyr fortsætter til søs. \nMidt på eftermiddagen går vi ombord på en sightseeing båd\, som på en to timers sejltur bringer os gennem Aurlandsfjorden og den verdensberømte Nærøyfjord\, hvor fjeldene virker uindtagelige\, når de rejser sig lodret mod himlen. På fjeldhylder og klippeafsatser\, har mennesker formået at leve livet gennem generationer\, og dette samspil mellem mennesker og natur\, har bragt området på UNESCOs liste over verdens kulturarv. Turen slutter i Gudvangen\, hvorfra vi kører den korte tur tilbage til Stalheim Hotel. \nIgen i aften nyder vi middagen i hotellets restaurant\, med den betagende udsigt. \n\n\n4 dag:\n\nStalheim og Bergen \n\n\nVi starter dagen med et besøg på hotellets eget frilandsmuseum. \nDet dejlige Stalheim Hotel har\, i århundreder\, spillet en vigtig rolle som postgård\, gæstgiveri og overnatningssted for de første turister\, som fandt vej til de norske fjelde. Stedets ejere har der ud over\, op igennem tiderne\, samlet en mængde historiske bygninger\, som i dag udgør den største samling i privat eje. \nHen på formiddagen sætter vi kurs mod Bergen\, med stop ved det smukke vandfald Tvindefossen\, og senere ved byen Voss. \nMidt på eftermiddagen ankommer vi til Bergen\, hvor vi starter med en lille byvandring\, så vi hurtigt bliver dus med byen. \nBergen er kendetegnene ved huse der klamrer sig til fjeldsiderne\, gamle træbygninger og smalle stræder med hyggelige caféer og butikker. Vi indlogeres på First Hotel Bergen Marin\, centralt beliggende på ”Bryggen”\, i den gamle bydel. Hotellet har restaurant\, elevator og alle værelser er med TV\, toilet og bad. ”Bryggen” – bebyggelsen langs havnen – var tilholdssted for tyske købmænd i Hanseforbundet\, og i dag optaget på UNESCOs liste over verdensarv. Bryggens bygninger er alle fredet og huser museer og små specialforretninger\, gallerier og spisesteder. \nResten af eftermiddagen er der tid til\, på egen hånd\, at opleve disse omgivelser. Tag f.eks. en tur med tandhjulsbanen op på bybjerget Fløyen\, som er beliggende i gåafstand fra hotellet. Herfra er der en fantastisk udsigt over byen\, samt de omkringliggende skærgårdsøer og havet. \n\n\n5 dag:\n\nBergen og Skærgårdssejlads \n\n\nI formiddag er der atter tid til\, på egen hånd\, at opleve Bergen. \nBesøg f.eks. det nye center\, ”Fiskenes Hus”\, hvor fiskene nu om dage bliver handlet. Her er en række caféer og butikker\, og ligger naturligvis lige ud til havnen. \nFørst på eftermiddagen går vi ombord på Fjord Lines store skib\, med kurs mod Hirtshals. Her fra kan vi nyde udsigten til de høje majestætiske fjelde\, dybe fjorde og en smuk skærgård. Nyd en afslappende eftermiddag på dækket\, med en udsigt ud over det sædvanlige. Man når slet ikke at blive træt af det smukke panorama\, som hele tiden skifter. Flere gange sejler vi så tæt på kysten\, at man kan se detaljerne ved de typiske røde fjordhuse og de små fjorde\, som skærer sig ind i landet. \nOm aftenen har vi inkluderet middag i en af skibets restauranter. \nNatten tilbringes til søs\, i kahyt med havudsigt og bad/toilet. \n\n\n6 dag:\n\nHjemrejse \n\n\nUnd dig selv at opleve solopgangen fra dækket – her ses det smukkeste farvespil\, med alle tænkelige nuancer af rød\, orange og blålige toner\, som langsomt glider over i hinanden. Inden ankomst til Hirtshals\, spiser vi tidlig morgenmad i buffetrestauranten\, som ligger helt agter\, og hvorfra der er en formidabel udsigt. Vi kører ned gennem Jylland og er hjemme midt på eftermiddagen. \n\nAlt det praktiske:\n\nDet får du med i prisen: \n\n\n\n\n1 x overnatning i Oslo \n\n\n\n\n2 x overnatning på Stalheim Hotel \n\n\n\n\n1 x overnatning i Bergen \n\n\n\n\n1 x overnatning i udvendig kahyt \n\n\n\n\n5 x morgenmad \n\n\n\n\n1 x frokost (2. dag) \n\n\n\n\n4 x middag \n\n\n\n\nBesøg i Vigelandsparken\, Oslo \n\n\n\n\nTogrejse med den legendariske “Flåmsbanen” \n\n\n\n\nFjordkrydstogt på Aurland- og Nærøyfjorden \n\n\n\n\nRejseleder / chauffør: Jens Thuun / Niels Gregers \n\n\n\n\nKørsel i 4-stjernet turistbus \n\n\n\n\nSærlige tillæg: \n\n\n\n\nTillæg enekahyt / enevær.: 1.650\,- \n\n\n\n\nAfbestillingsforsikring: 478\,- \n\n\n\n\nBemærk: \n\n\n\n\nHusk pas! \n\n\n\n\nValuta: DKKR / NOK \n\n\n\n\nBussen kører på følgende tidspunkter: \n\n\n\n\nBy:\nTidspunkt:\n\n\n\n\nHøjby\nkl. 05:10\n\n\nNykøbing Sj.\nkl. 05:20\n\n\nVig\nkl. 05:35\n\n\nAsnæs\nkl. 05:50\n\n\nFårevejle\nkl. 06:00\n\n\nSvinninge\nkl. 06:10\n\n\nHolbæk\nkl. 06:30\n\n\nRoskilde\nkl. 07:00\n\n\nKøbenhavn\nkl. 07:30\n\n\n\n\n60.39126279999999\,5.3220544 \n\nSkal du med på turen?\n\nØnsker du at booke et sæde i bussen?Klik på “Bestil her” og gå direkte til vores booking. \n\n\n    Bestil her
URL:https://hafnia-rejser.dk/event/norge-i-en-noeddeskal/
CATEGORIES:Alle rejser
ATTACH;FMTTYPE=image/jpeg:https://hafnia-rejser.dk/wp-content/uploads/skib-fra-Fjordline-69af3ae1.jpeg
END:VEVENT
END:VCALENDAR